BEGIN:VCALENDAR
VERSION:2.0
PRODID:-//ChamberMaster//Event Calendar 2.0//EN
METHOD:PUBLISH
X-PUBLISHED-TTL:P3D
REFRESH-INTERVAL:P3D
CALSCALE:GREGORIAN
BEGIN:VEVENT
DTSTART:20241220T013000Z
DTEND:20241220T030000Z
X-MICROSOFT-CDO-ALLDAYEVENT:FALSE
SUMMARY:1331 Cocktails Mixer Event Dec 2024
DESCRIPTION:Welcome to 1331 Cocktails  \n\nElevate your evenings with the refined elegance of 1331 Cocktails!  \n\n  Sip & Savor: Discover a meticulously crafted cocktail selection alongside premium wines. From classic concoctions to innovative blends\, we offer a drink for every mood and palate.\n\n   Culinary Delights: Our chefs curate gourmet appetizers designed to perfectly complement every sip. Whether you're a culinary enthusiast or a cocktail aficionado\, you're in for an extraordinary experience.\n\n  Network & Connect: At 1331 Cocktails\, we know great drinks pair best with great conversations. Attend our networking events to connect\, collaborate\, and celebrate life's moments with fellow enthusiasts.\n\n    Experience the art of mixology\, the pleasure of gourmet flavors\, and the energy of meaningful connections at 1331 Cocktails. Your next unforgettable evening starts here!   \n\n#1331Cocktails #CraftCocktails #Foodies #NetworkingEvents\n\nFollow us for updates on upcoming events and specials. Cheers to living vibrantly!
X-ALT-DESC;FMTTYPE=text/html:<p>&#127863\; <strong>Welcome to 1331 Cocktails</strong> &#127860\;</p>\n\n<p>Elevate your evenings with the refined elegance of <strong>1331 Cocktails</strong>! &#129346\;</p>\n\n<p>&#127864\; <strong>Sip &amp\; Savor:</strong> Discover a meticulously crafted cocktail selection alongside premium wines. From classic concoctions to innovative blends\, we offer a drink for every mood and palate.</p>\n\n<p>&#127869\;&#65039\; <strong>Culinary Delights:</strong> Our chefs curate gourmet appetizers designed to perfectly complement every sip. Whether you&#39\;re a culinary enthusiast or a cocktail aficionado\, you&#39\;re in for an extraordinary experience.</p>\n\n<p>&#129309\; <strong>Network &amp\; Connect:</strong> At <strong>1331 Cocktails</strong>\, we know great drinks pair best with great conversations. Attend our networking events to connect\, collaborate\, and celebrate life&#39\;s moments with fellow enthusiasts.</p>\n\n<p>&#127864\;&#127815\;&#127860\; <strong>Experience the art of mixology\, the pleasure of gourmet flavors\, and the energy of meaningful connections at 1331 Cocktails. Your next unforgettable evening starts here!</strong> &#129346\;&#129309\;</p>\n\n<p>#1331Cocktails #CraftCocktails #Foodies #NetworkingEvents</p>\n\n<p>Follow us for updates on upcoming events and specials. Cheers to living vibrantly! &#127775\;</p>\n\n<div id="6D4E3A78_C6A2_5965_4DAC_02F0196F0209">&nbsp\;</div>\n
LOCATION:
UID:e.3042.488
SEQUENCE:3
DTSTAMP:20260424T075126Z
URL:https://business.napacountyhcc.com/events/details/1331-cocktails-mixer-event-dec-2024-488
END:VEVENT

END:VCALENDAR
