BEGIN:VCALENDAR
VERSION:2.0
PRODID:-//ChamberMaster//Event Calendar 2.0//EN
METHOD:PUBLISH
X-PUBLISHED-TTL:P3D
REFRESH-INTERVAL:P3D
CALSCALE:GREGORIAN
BEGIN:VEVENT
DTSTART:20230412T010000Z
DTEND:20230412T030000Z
X-MICROSOFT-CDO-ALLDAYEVENT:FALSE
SUMMARY:April 2023 Napa Boys & Girls Club Mixer
DESCRIPTION:Come and network with experts in various industries. \n\n\n\nFind out how the Napa Hispanic Chamber of Commerce can help you with your business needs. Let us know about your business while you meet\, and most of all\, support the small business community in our lovely Napa Valley. \n\n\n\nBe one of the first five attendees that brings a raffle prize\, and join us at the next mixer for FREE! And of course\, all will have a chance at winning a raffle prize\, too.\n\n\n\nNetworking. Business Opportunities. Support Local Businesses.\n\n\n\n*When registering\, We thank you for choosing 'Member' or 'Non-Member' if you are not a board member. :)
X-ALT-DESC;FMTTYPE=text/html:<span style="color: rgb(93\, 84\, 73)\; font-family: &quot\;Maven Pro&quot\;\, HelveticaNeue\, &quot\;Helvetica Neue&quot\;\, Helvetica\, Arial\, sans-serif\; font-size: 18px\;">Come and network with experts in various industries.&nbsp\;</span><br style="box-sizing: border-box\; color: rgb(93\, 84\, 73)\; font-family: &quot\;Maven Pro&quot\;\, HelveticaNeue\, &quot\;Helvetica Neue&quot\;\, Helvetica\, Arial\, sans-serif\; font-size: 18px\;" />\n<br style="box-sizing: border-box\; color: rgb(93\, 84\, 73)\; font-family: &quot\;Maven Pro&quot\;\, HelveticaNeue\, &quot\;Helvetica Neue&quot\;\, Helvetica\, Arial\, sans-serif\; font-size: 18px\;" />\n<span style="color: rgb(93\, 84\, 73)\; font-family: &quot\;Maven Pro&quot\;\, HelveticaNeue\, &quot\;Helvetica Neue&quot\;\, Helvetica\, Arial\, sans-serif\; font-size: 18px\;">Find out how the Napa Hispanic Chamber of Commerce can help you with your business needs. Let us know about your business while you meet\, and most of all\, support the small business community in our lovely Napa Valley.&nbsp\;</span><br style="box-sizing: border-box\; color: rgb(93\, 84\, 73)\; font-family: &quot\;Maven Pro&quot\;\, HelveticaNeue\, &quot\;Helvetica Neue&quot\;\, Helvetica\, Arial\, sans-serif\; font-size: 18px\;" />\n<br style="box-sizing: border-box\; color: rgb(93\, 84\, 73)\; font-family: &quot\;Maven Pro&quot\;\, HelveticaNeue\, &quot\;Helvetica Neue&quot\;\, Helvetica\, Arial\, sans-serif\; font-size: 18px\;" />\n<span style="color: rgb(93\, 84\, 73)\; font-family: &quot\;Maven Pro&quot\;\, HelveticaNeue\, &quot\;Helvetica Neue&quot\;\, Helvetica\, Arial\, sans-serif\; font-size: 18px\;">Be one of the first five attendees that brings a raffle prize\, and join us at the next mixer for FREE! And of course\, all will have a&nbsp\;chance at winning a raffle prize\, too.</span><br style="box-sizing: border-box\; color: rgb(93\, 84\, 73)\; font-family: &quot\;Maven Pro&quot\;\, HelveticaNeue\, &quot\;Helvetica Neue&quot\;\, Helvetica\, Arial\, sans-serif\; font-size: 18px\;" />\n<br style="box-sizing: border-box\; color: rgb(93\, 84\, 73)\; font-family: &quot\;Maven Pro&quot\;\, HelveticaNeue\, &quot\;Helvetica Neue&quot\;\, Helvetica\, Arial\, sans-serif\; font-size: 18px\;" />\n<span style="color: rgb(93\, 84\, 73)\; font-family: &quot\;Maven Pro&quot\;\, HelveticaNeue\, &quot\;Helvetica Neue&quot\;\, Helvetica\, Arial\, sans-serif\; font-size: 18px\;">Networking. Business Opportunities. Support Local Businesses.</span><br style="box-sizing: border-box\; color: rgb(93\, 84\, 73)\; font-family: &quot\;Maven Pro&quot\;\, HelveticaNeue\, &quot\;Helvetica Neue&quot\;\, Helvetica\, Arial\, sans-serif\; font-size: 18px\;" />\n<br style="box-sizing: border-box\; color: rgb(93\, 84\, 73)\; font-family: &quot\;Maven Pro&quot\;\, HelveticaNeue\, &quot\;Helvetica Neue&quot\;\, Helvetica\, Arial\, sans-serif\; font-size: 18px\;" />\n<span style="color: rgb(93\, 84\, 73)\; font-family: &quot\;Maven Pro&quot\;\, HelveticaNeue\, &quot\;Helvetica Neue&quot\;\, Helvetica\, Arial\, sans-serif\; font-size: 18px\;">*When registering\, We thank you for choosing &#39\;Member&#39\; or &#39\;Non-Member&#39\; if you are not a board member. :)</span>
LOCATION:
UID:e.3042.432
SEQUENCE:3
DTSTAMP:20260425T172952Z
URL:https://business.napacountyhcc.com/events/details/april-2023-napa-boys-girls-club-mixer-432
END:VEVENT

END:VCALENDAR
