BEGIN:VCALENDAR
VERSION:2.0
PRODID:-//ChamberMaster//Event Calendar 2.0//EN
METHOD:PUBLISH
X-PUBLISHED-TTL:P3D
REFRESH-INTERVAL:P3D
CALSCALE:GREGORIAN
BEGIN:VEVENT
DTSTART:20230507T160000Z
DTEND:20230507T223000Z
X-MICROSOFT-CDO-ALLDAYEVENT:FALSE
SUMMARY:Bike Swap at Napa Bikefest
DESCRIPTION:Don't miss out on the Bike Swap at Napa Bikefest on Sunday\, May 7 from 9 AM - 3:30 PM at South Napa Century Center! \n\nThis event is perfect for all kinds of situations: if you have outgrown your bike\, if you're in the market for a new two-wheeled way to get to work or school\, or even if you're missing a part of accessory to make your ride even better! At Napa Bikefest\, you can make a deal with one of the sellers to trade your old bike for a different one\, or buy a used bike at a great price. You can also donate used bikes in good condition if you'd like to contribute to a good cause.\n\nIs your bicycle beyond re-use or repair? Check out https://naparecycling.com/guide/bikes/ for recycling and disposal details.\n\nTo learn more about the upcoming event\, visit: www.napabike.org/bikefest
X-ALT-DESC;FMTTYPE=text/html:<p id="m_-7133465404235182192isPasted" style="font-size: 14px\; margin: 0px 0px 1.4em\; box-sizing: inherit\; border: 0px none\; font-family: &quot\;Open Sans&quot\;\; color: rgb(29\, 26\, 24)\; line-height: 1.5\;">Don&#39\;t miss out on the Bike Swap at Napa Bikefest on Sunday\, May 7 from 9 AM - 3:30 PM at South Napa Century Center!&nbsp\;</p>\n\n<p style="font-size: 14px\; margin: 0px 0px 1.4em\; box-sizing: inherit\; border: 0px none\; font-family: &quot\;Open Sans&quot\;\; color: rgb(29\, 26\, 24)\; line-height: 1.5\;">This event is perfect for all kinds of situations: if you have outgrown your bike\, if you&#39\;re in the market for a new two-wheeled way to get to work or school\, or even if you&#39\;re missing a part of accessory to make your ride even better! At Napa Bikefest\, you can make a deal with one of the sellers to trade your old bike for a different one\, or buy a used bike at a great price. You can also donate used bikes in good condition if you&#39\;d like to contribute to a good cause.</p>\n\n<p style="font-size: 14px\; margin: 0px 0px 1.4em\; box-sizing: inherit\; border: 0px none\; font-family: &quot\;Open Sans&quot\;\; color: rgb(29\, 26\, 24)\; line-height: 1.5\;">Is your bicycle beyond re-use or repair? Check out&nbsp\;<a data-saferedirecturl="https://www.google.com/url?q=https://naparecycling.com/guide/bikes/&amp\;source=gmail&amp\;ust=1682885566450000&amp\;usg=AOvVaw18Lo1RNdd_Dao3FTRo3Fwo" href="https://naparecycling.com/guide/bikes/" style="color: rgb(17\, 85\, 204)\;" target="_blank">https://naparecycling.com/<wbr />guide/bikes/</a>&nbsp\;for recycling and disposal details.</p>\n\n<p style="font-size: 14px\; margin: 0px 0px 1.4em\; box-sizing: inherit\; border: 0px none\; font-family: &quot\;Open Sans&quot\;\; color: rgb(29\, 26\, 24)\; line-height: 1.5\;">To learn more about the upcoming event\, visit:&nbsp\;<a data-saferedirecturl="https://www.google.com/url?q=http://www.napabike.org/bikefest&amp\;source=gmail&amp\;ust=1682885566450000&amp\;usg=AOvVaw3qLKMmSlBIVc7JRNGEeiTZ" href="http://www.napabike.org/bikefest" style="color: rgb(45\, 96\, 170)\; background-color: transparent\; box-sizing: inherit\;" target="_blank">www.napabike.org/bikefest&nbsp\;</a></p>\n
LOCATION:South Napa Century Center
UID:e.3042.448
SEQUENCE:3
DTSTAMP:20260425T154947Z
URL:https://business.napacountyhcc.com/events/details/bike-swap-at-napa-bikefest-448
END:VEVENT

END:VCALENDAR
