BEGIN:VCALENDAR
VERSION:2.0
PRODID:-//ChamberMaster//Event Calendar 2.0//EN
METHOD:PUBLISH
X-PUBLISHED-TTL:P3D
REFRESH-INTERVAL:P3D
CALSCALE:GREGORIAN
BEGIN:VEVENT
DTSTART;VALUE=DATE:20250426
DTEND;VALUE=DATE:20250428
TRANSP:TRANSPARENT
X-MICROSOFT-CDO-ALLDAYEVENT:TRUE
SUMMARY:Boards and Commission Training - 2025
DESCRIPTION:Join Us for a Transformative Leadership Experience!\n\nThe Napa County Hispanic Chamber Foundation is thrilled to present the Latino Leadership Development Program a unique opportunity dedicated to empowering emerging Latino leaders in Napa County. This program is designed to equip participants with the skills\, insights\, and strategies necessary to take on impactful roles in government\, nonprofit\, and corporate boards and commissions.\n\nEvent Overview:\n\nThe Latino Leadership Development Program is more than just training\; it's a commitment to fostering a future where Latino voices are actively represented in decision-making spaces. Through in-depth leadership development\, advocacy training\, and strategic planning\, this two-day immersive experience will help participants strengthen their roles as advocates for inclusivity\, diversity\, and community advancement.\n\nProgram Highlights:\n\nDates: April 26th & 27th\, 2025\n\nDuration: 2 days\n\nLocation: TBD\n\nProgram Structure:\n\nDay 1: Leadership Foundations and Community Building\n\n\n	Develop essential communication and leadership skills tailored for board and commission roles.\n	Participate in practical exercises focused on leadership dynamics\, organizational insights\, and personal growth.\n\n\nDay 2: Deepening Leadership and Shaping the Future\n\n\n	Explore the integration of Latino cultural values in leadership\, Diversity\, Equity\, and Inclusion (DEI) best practices\, and vision-building for impactful roles.\n	Engage in a panel discussion with established Latino leaders and present individual leadership plans.\n\n\nProgram Goals:\n\n\n	Develop Leadership and Governance Skills for board and commission readiness.\n	Equip Participants with DEI Strategies to enhance organizational responsiveness to diverse populations.\n	Increase Latino Representation in critical decision-making roles\, contributing to a more inclusive community.\n\n\nImpact and Call to Action:\n\nSupporting this program means investing in a future of greater Latino representation and impact. We invite sponsors and donors to join us in this mission. Your contributions will directly support program costs such as participant training\, materials\, and logistical needs enabling us to nurture the next generation of Latino leaders.\n\nBecome a Partner in Leadership:\n\nTogether\, we can amplify Latino voices and build a more inclusive\, responsive environment across Napa County. For sponsorship or donation opportunities\, please reach out to us at alonso@napacountyhcc.com\n\n\n\n\n\nPioneer Participants
X-ALT-DESC;FMTTYPE=text/html:<p><strong>Join Us for a Transformative Leadership Experience!</strong></p>\n\n<p>The Napa County Hispanic Chamber Foundation is thrilled to present the Latino Leadership Development Program&mdash\;a unique opportunity dedicated to empowering emerging Latino leaders in Napa County. This program is designed to equip participants with the skills\, insights\, and strategies necessary to take on impactful roles in government\, nonprofit\, and corporate boards and commissions.</p>\n\n<p><strong>Event Overview:</strong></p>\n\n<p>The Latino Leadership Development Program is more than just training\; it&rsquo\;s a commitment to fostering a future where Latino voices are actively represented in decision-making spaces. Through in-depth leadership development\, advocacy training\, and strategic planning\, this two-day immersive experience will help participants strengthen their roles as advocates for inclusivity\, diversity\, and community advancement.</p>\n\n<p><strong>Program Highlights:</strong></p>\n\n<p><strong>Dates:</strong>&nbsp\;April 26th &amp\; 27th\, 2025<br />\n<strong>Duration:</strong> 2 days<br />\n<strong>Location:</strong> TBD</p>\n\n<p><strong>Program Structure:</strong></p>\n\n<p><strong>Day 1: Leadership Foundations and Community Building</strong></p>\n\n<ul>\n	<li>Develop essential communication and leadership skills tailored for board and commission roles.</li>\n	<li>Participate in practical exercises focused on leadership dynamics\, organizational insights\, and personal growth.</li>\n</ul>\n\n<p><strong>Day 2: Deepening Leadership and Shaping the Future</strong></p>\n\n<ul>\n	<li>Explore the integration of Latino cultural values in leadership\, Diversity\, Equity\, and Inclusion (DEI) best practices\, and vision-building for impactful roles.</li>\n	<li>Engage in a panel discussion with established Latino leaders and present individual leadership plans.</li>\n</ul>\n\n<p><strong>Program Goals:</strong></p>\n\n<ul>\n	<li><strong>Develop Leadership and Governance Skills</strong> for board and commission readiness.</li>\n	<li><strong>Equip Participants with DEI Strategies</strong> to enhance organizational responsiveness to diverse populations.</li>\n	<li><strong>Increase Latino Representation</strong> in critical decision-making roles\, contributing to a more inclusive community.</li>\n</ul>\n\n<p><strong>Impact and Call to Action:</strong></p>\n\n<p>Supporting this program means investing in a future of greater Latino representation and impact. We invite sponsors and donors to join us in this mission. Your contributions will directly support program costs&mdash\;such as participant training\, materials\, and logistical needs&mdash\;enabling us to nurture the next generation of Latino leaders.</p>\n\n<p><strong>Become a Partner in Leadership:</strong></p>\n\n<p>Together\, we can amplify Latino voices and build a more inclusive\, responsive environment across Napa County. For sponsorship or donation opportunities\, please reach out to us at alonso@napacountyhcc.com<br />\n<br />\n<br />\n<u><em><span style="font-size:36px\;"><strong>Pioneer Participants</strong></span></em></u></p>\n
LOCATION:TBD
UID:e.3042.487
SEQUENCE:3
DTSTAMP:20260423T224439Z
URL:https://business.napacountyhcc.com/events/details/boards-and-commission-training-2025-487
END:VEVENT

END:VCALENDAR
