BEGIN:VCALENDAR
VERSION:2.0
PRODID:-//ChamberMaster//Event Calendar 2.0//EN
METHOD:PUBLISH
X-PUBLISHED-TTL:P3D
REFRESH-INTERVAL:P3D
CALSCALE:GREGORIAN
BEGIN:VEVENT
DTSTART:20250425T003000Z
DTEND:20250425T020000Z
X-MICROSOFT-CDO-ALLDAYEVENT:FALSE
SUMMARY:Communicare+Ole Mixer - April 2025
DESCRIPTION:You're Invited!\n\n  Building Stronger Communities Together\n\nJoin us for a special Mixer with Communicare+Ole this April 2025\, where we'll celebrate the power of partnerships in strengthening our community.\n\nEnjoy an evening of networking\, collaboration\, and connection with fellow community leaders\, nonprofits\, and advocates. Together\, we can drive meaningful impact and build a healthier\, more resilient Napa Valley.
X-ALT-DESC;FMTTYPE=text/html:<div>\n<p data-end="24" data-start="0">&#128226\; <strong data-end="22" data-start="3">You&rsquo\;re Invited!</strong></p>\n\n<p data-end="242" data-start="26">&#129309\; <strong data-end="71" data-start="29">Building Stronger Communities Together</strong><br data-end="74" data-start="71" />\nJoin us for a special <strong data-end="135" data-start="96">Mixer with Communicare+Ole </strong>this <strong data-end="155" data-start="141">April 2025</strong>\, where we&rsquo\;ll celebrate the power of <strong data-end="239" data-start="192">partnerships in strengthening our community</strong>.</p>\n\n<p data-end="337" data-start="244">Enjoy an evening of <strong data-end="404" data-start="359">networking\, collaboration\, and connection</strong> with fellow community leaders\, nonprofits\, and advocates. Together\, we can <strong data-end="507" data-start="480">drive meaningful impact</strong> and build a healthier\, more resilient Napa Valley.</p>\n</div>\n
LOCATION:1141 Pear Tree Ln Napa\, CA 94558 ( North Napa Campus)
UID:e.3042.502
SEQUENCE:3
DTSTAMP:20260423T224649Z
URL:https://business.napacountyhcc.com/events/details/communicare-ole-mixer-april-2025-502
END:VEVENT

END:VCALENDAR
