BEGIN:VCALENDAR
VERSION:2.0
PRODID:-//ChamberMaster//Event Calendar 2.0//EN
METHOD:PUBLISH
X-PUBLISHED-TTL:P3D
REFRESH-INTERVAL:P3D
CALSCALE:GREGORIAN
BEGIN:VEVENT
DTSTART:20241225T200000Z
DTEND:20241226T000000Z
X-MICROSOFT-CDO-ALLDAYEVENT:FALSE
SUMMARY:Community Open House - River Line Project
DESCRIPTION:Join us for a FREE community workshop on the Napa\n\nRiverLine project on Saturday\, January 25th\, 2025\,\n\nfrom 12-4pm at CIA-Copia! Share your ideas and help\n\nshape the future of this transformative effort to connect\n\npeople with the beauty and history of the Napa River.\n\nVisit napariverline.org for project details. Your input is\n\nvital come make your voice heard!
X-ALT-DESC;FMTTYPE=text/html:Join us for a FREE community workshop on the Napa<br />\nRiverLine project on Saturday\, January 25th\, 2025\,<br />\nfrom 12-4pm at CIA-Copia! Share your ideas and help<br />\nshape the future of this transformative effort to connect<br />\npeople with the beauty and history of the Napa River.<br />\nVisit <a href="http://napariverline.org">napariverline.org</a> for project details. Your input is<br />\nvital&mdash\;come make your voice heard!
LOCATION:LOCATION: THE CULINARY INSTITUTE OF AMERICA AT COPIA 500 1ST\, NAPA\, CA
UID:e.3042.490
SEQUENCE:3
DTSTAMP:20260424T060546Z
URL:https://business.napacountyhcc.com/events/details/community-open-house-river-line-project-490
END:VEVENT

END:VCALENDAR
