BEGIN:VCALENDAR
VERSION:2.0
PRODID:-//ChamberMaster//Event Calendar 2.0//EN
METHOD:PUBLISH
X-PUBLISHED-TTL:P3D
REFRESH-INTERVAL:P3D
CALSCALE:GREGORIAN
BEGIN:VEVENT
DTSTART:20251121T013000Z
DTEND:20251121T030000Z
X-MICROSOFT-CDO-ALLDAYEVENT:FALSE
SUMMARY:Don Chalo & Encanto Vineyards Mixer & Ribbon Cutting
DESCRIPTION:Join us for the Grand Opening Celebration of Don Chalo Cellars & Encanto Vineyards!\n\n  Date: Thursday\, November 20\, 2025\n\n  Time: 5:30 PM   7:30 PM\n\n  Location: 902 Enterprise Way\, Suite O\, Napa\, CA 94558\n\nCelebrate two incredible Napa Valley wineries coming together for an unforgettable evening of wine\, community\, and connection. Enjoy handcrafted wines\, light bites\, and great company as we toast to their exciting new chapter.\n\nDon't miss this chance to experience the spirit of Napa and support local Latino-owned wineries.\n\nRSVP today   space is limited!
X-ALT-DESC;FMTTYPE=text/html:<p data-end="192" data-start="103"><strong data-end="190" data-start="103">Join us for the Grand Opening Celebration of Don Chalo Cellars &amp\; Encanto Vineyards!</strong></p>\n\n<p data-end="331" data-start="194">&#128197\; <strong data-end="206" data-start="197">Date:</strong> Thursday\, November 20\, 2025<br data-end="237" data-start="234" />\n&#9200\; <strong data-end="248" data-start="239">Time:</strong> 5:30 PM &ndash\; 7:30 PM<br data-end="269" data-start="266" />\n&#128205\; <strong data-end="285" data-start="272">Location:</strong> 902 Enterprise Way\, Suite O\, Napa\, CA 94558</p>\n\n<p data-end="560" data-start="333">Celebrate two incredible Napa Valley wineries coming together for an unforgettable evening of wine\, community\, and connection. Enjoy handcrafted wines\, light bites\, and great company as we toast to their exciting new chapter.</p>\n\n<p data-end="697" data-start="562">Don&rsquo\;t miss this chance to experience the spirit of Napa and support local Latino-owned wineries.<br data-end="661" data-start="658" />\n<strong data-end="695" data-start="661">RSVP today &mdash\; space is limited!</strong></p>\n
LOCATION:
UID:e.3042.516
SEQUENCE:3
DTSTAMP:20260423T105305Z
URL:https://business.napacountyhcc.com/events/details/don-chalo-encanto-vineyards-mixer-ribbon-cutting-516
END:VEVENT

END:VCALENDAR
