BEGIN:VCALENDAR
VERSION:2.0
PRODID:-//ChamberMaster//Event Calendar 2.0//EN
METHOD:PUBLISH
X-PUBLISHED-TTL:P3D
REFRESH-INTERVAL:P3D
CALSCALE:GREGORIAN
BEGIN:VEVENT
DTSTART:20230223T013000Z
DTEND:20230223T033000Z
X-MICROSOFT-CDO-ALLDAYEVENT:FALSE
SUMMARY:February 2023 Redwood Credit Union Mixer
DESCRIPTION:Come and network with experts in various industries. \n\n\n\nFind out how the Napa Hispanic Chamber of Commerce can help you with your business needs. Let us know about your business while you meet\, and most of all support the small business community in our lovely Napa Valley. \n\n\n\nBe one of the first five attendees that brings a raffle prize\, and join us at the next mixer for FREE!\n\n\n\nOH! And take your chance at winning a raffle prize...\n\n\n\nNetworking. Business Opportunities. Support Local Businesses.
X-ALT-DESC;FMTTYPE=text/html:Come and network with experts in various industries.&nbsp\;<br />\n<br />\nFind out how the Napa Hispanic Chamber of Commerce can help you with your business needs. Let us know about your business while you meet\, and most of all support the small business community in our lovely Napa Valley.&nbsp\;<br />\n<br />\nBe one of the first five attendees that brings a raffle prize\, and join us at the next mixer for FREE!<br />\n<br />\nOH! And take your chance at winning a raffle prize...<br />\n<br />\nNetworking. Business Opportunities. Support Local Businesses.
LOCATION:Redwood Credit Union 17505 First St Napa\, CA. 94559
UID:e.3042.426
SEQUENCE:3
DTSTAMP:20260425T204841Z
URL:https://business.napacountyhcc.com/events/details/february-2023-redwood-credit-union-mixer-426
END:VEVENT

END:VCALENDAR
