BEGIN:VCALENDAR
VERSION:2.0
PRODID:-//ChamberMaster//Event Calendar 2.0//EN
METHOD:PUBLISH
X-PUBLISHED-TTL:P3D
REFRESH-INTERVAL:P3D
CALSCALE:GREGORIAN
BEGIN:VEVENT
DTSTART:20221213T013000Z
DTEND:20221213T033000Z
X-MICROSOFT-CDO-ALLDAYEVENT:FALSE
SUMMARY:Holiday Mixer
DESCRIPTION:Join us to celebrate the Holiday season and have an opportunity to network with other local business owners.
X-ALT-DESC;FMTTYPE=text/html:Join us to celebrate the Holiday season and have an opportunity to network with other local business owners.&nbsp\;&nbsp\;&nbsp\;&nbsp\;&nbsp\;
LOCATION:Taqueria Maria 640 3rd Street Napa\, CA 94559
UID:e.3042.424
SEQUENCE:3
DTSTAMP:20260426T020042Z
URL:https://business.napacountyhcc.com/events/details/holiday-mixer-424
END:VEVENT

END:VCALENDAR
