BEGIN:VCALENDAR
VERSION:2.0
PRODID:-//ChamberMaster//Event Calendar 2.0//EN
METHOD:PUBLISH
X-PUBLISHED-TTL:P3D
REFRESH-INTERVAL:P3D
CALSCALE:GREGORIAN
BEGIN:VEVENT
DTSTART:20230117T013000Z
DTEND:20230117T033000Z
X-MICROSOFT-CDO-ALLDAYEVENT:FALSE
SUMMARY:January 2023 Slow Fox Dance Hall Mixer
DESCRIPTION:Come and network with experts in various industries. \n\n\n\nFind out how the Napa Hispanic Chamber of Commerce can help you with your business needs. Let us know about your business while you meet\, and most of all support the small business community in our lovely Napa Valley. \n\n\n\nNetworking. Business Opportunities.
X-ALT-DESC;FMTTYPE=text/html:Come and network with experts in various industries.&nbsp\;<br />\n<br />\nFind out how the Napa Hispanic Chamber of Commerce can help you with your business needs. Let us know about your business while you meet\, and most of all support the small business community in our lovely Napa Valley.&nbsp\;<br />\n<br />\nNetworking. Business Opportunities.&nbsp\;
LOCATION:Slow Fox Dance Hall 600 Trancas St\, Suite 30 Napa\, CA. 94558
UID:e.3042.425
SEQUENCE:3
DTSTAMP:20260425T224711Z
URL:https://business.napacountyhcc.com/events/details/january-2023-slow-fox-dance-hall-mixer-425
END:VEVENT

END:VCALENDAR
