BEGIN:VCALENDAR
VERSION:2.0
PRODID:-//ChamberMaster//Event Calendar 2.0//EN
METHOD:PUBLISH
X-PUBLISHED-TTL:P3D
REFRESH-INTERVAL:P3D
CALSCALE:GREGORIAN
BEGIN:VEVENT
DTSTART:20250822T003000Z
DTEND:20250822T020000Z
X-MICROSOFT-CDO-ALLDAYEVENT:FALSE
SUMMARY:Joint Chamber Mixer - Hispanic Chamber and Napa Chamber
DESCRIPTION:Join Us for a Joint Chamber Mixer at Goosecross Cellars!\n\nThe Napa County Hispanic Chamber of Commerce and the Napa Chamber of Commerce invite you to our upcoming Joint Chamber Mixer at the beautiful Goosecross Cellars in Yountville.\n\nCome connect with members from both Chambers while enjoying scenic vineyard views\, award-winning wines\, and warm hospitality in the heart of Napa Valley. It's a perfect setting for great conversation\, new connections\, and meaningful business relationships.
X-ALT-DESC;FMTTYPE=text/html:<p data-end="151" data-start="91"><strong data-end="151" data-start="91">Join Us for a Joint Chamber Mixer at Goosecross Cellars!</strong></p>\n\n<p data-end="344" data-start="153">The <strong data-end="201" data-start="157">Napa County Hispanic Chamber of Commerce</strong> and the <strong data-end="238" data-start="210">Napa Chamber of Commerce</strong> invite you to our upcoming <strong data-end="289" data-start="266">Joint Chamber Mixer</strong> at the beautiful <strong data-end="329" data-start="307">Goosecross Cellars</strong> in Yountville.</p>\n\n<p data-end="602" data-start="346">Come connect with members from both Chambers while enjoying scenic vineyard views\, award-winning wines\, and warm hospitality in the heart of Napa Valley. It&rsquo\;s a perfect setting for great conversation\, new connections\, and meaningful business relationships.</p>\n
LOCATION:Goose Cross Cellars 1119 State Lane Yountville\, CA 94599
UID:e.3042.508
SEQUENCE:3
DTSTAMP:20260423T154225Z
URL:https://business.napacountyhcc.com/events/details/joint-chamber-mixer-hispanic-chamber-and-napa-chamber-508
END:VEVENT

END:VCALENDAR
