BEGIN:VCALENDAR
VERSION:2.0
PRODID:-//ChamberMaster//Event Calendar 2.0//EN
METHOD:PUBLISH
X-PUBLISHED-TTL:P3D
REFRESH-INTERVAL:P3D
CALSCALE:GREGORIAN
BEGIN:VEVENT
DTSTART:20230721T003000Z
DTEND:20230721T023000Z
X-MICROSOFT-CDO-ALLDAYEVENT:FALSE
SUMMARY:July Mixer hosted by Self Help Credit Union
DESCRIPTION:Come join us for our July Mixer!!\n\n\nThis month\, we've got some new-member hosts\, AGAIN! We love our 'take action' new members\, and this month we're honored to be partnering with Self-Help Credit Union\, here in Napa.\n\nCome and network with experts in various industries. \n\n\n\nFind out how the Napa Hispanic Chamber of Commerce can help you with your business needs. Let us know about your business while you meet and most of all\, support the small business community in our lovely Napa Valley. \n\n\n\nBe one of the first five attendees that brings a raffle prize\, and join us at the next mixer for FREE! And of course\, all will have a chance at winning a raffle prize\, too.\n\n\n\nNetworking. Business Opportunities. Support Local Businesses.
X-ALT-DESC;FMTTYPE=text/html:<span style="color: rgb(93\, 84\, 73)\; font-family: &quot\;Maven Pro&quot\;\, HelveticaNeue\, &quot\;Helvetica Neue&quot\;\, Helvetica\, Arial\, sans-serif\; font-size: 18px\;">Come join us for our July Mixer!!</span>\n<p style="box-sizing: border-box\; margin: 0px 0px 1rem\; padding: 0px\; border: 0px rgb(248\, 248\, 248)\; font-variant-numeric: inherit\; font-variant-east-asian: inherit\; font-variant-alternates: inherit\; font-stretch: inherit\; font-size: 18px\; line-height: inherit\; font-family: &quot\;Maven Pro&quot\;\, HelveticaNeue\, &quot\;Helvetica Neue&quot\;\, Helvetica\, Arial\, sans-serif\; font-optical-sizing: inherit\; font-kerning: inherit\; font-feature-settings: inherit\; font-variation-settings: inherit\; vertical-align: baseline\; color: rgb(93\, 84\, 73)\;"><br />\nThis month\, we&#39\;ve got some new-member hosts\, AGAIN! We love our &#39\;take action&#39\; new members\, and this month we&#39\;re honored to be partnering with Self-Help Credit Union\, here in Napa.</p>\n\n<p style="box-sizing: border-box\; margin: 0px 0px 1rem\; padding: 0px\; border: 0px rgb(248\, 248\, 248)\; font-variant-numeric: inherit\; font-variant-east-asian: inherit\; font-variant-alternates: inherit\; font-stretch: inherit\; font-size: 18px\; line-height: inherit\; font-family: &quot\;Maven Pro&quot\;\, HelveticaNeue\, &quot\;Helvetica Neue&quot\;\, Helvetica\, Arial\, sans-serif\; font-optical-sizing: inherit\; font-kerning: inherit\; font-feature-settings: inherit\; font-variation-settings: inherit\; vertical-align: baseline\; outline: 0px\; color: rgb(93\, 84\, 73)\;"><span style="box-sizing: border-box\; margin: 0px\; padding: 0px\; border: 0px rgb(248\, 248\, 248)\; font: inherit\; vertical-align: baseline\;">Come and network with experts in various industries.&nbsp\;</span><br style="box-sizing: border-box\;" />\n<br style="box-sizing: border-box\;" />\n<span style="box-sizing: border-box\; margin: 0px\; padding: 0px\; border: 0px rgb(248\, 248\, 248)\; font: inherit\; vertical-align: baseline\; outline: 0px\;">Find out how the Napa Hispanic Chamber of Commerce can help you with your business needs. Let us know about your business while you meet and most of all\, support the small business community in our lovely Napa Valley.&nbsp\;</span><br style="box-sizing: border-box\;" />\n<br style="box-sizing: border-box\;" />\n<span style="box-sizing: border-box\; margin: 0px\; padding: 0px\; border: 0px rgb(248\, 248\, 248)\; font: inherit\; vertical-align: baseline\;">Be one of the first five attendees that brings a raffle prize\, and join us at the next mixer for FREE! And of course\, all will have a&nbsp\;chance at winning a raffle prize\, too.</span><br style="box-sizing: border-box\;" />\n<br style="box-sizing: border-box\;" />\n<span style="box-sizing: border-box\; margin: 0px\; padding: 0px\; border: 0px rgb(248\, 248\, 248)\; font: inherit\; vertical-align: baseline\;">Networking. Business Opportunities. Support Local Businesses.</span><br />\n<br />\n&nbsp\;</p>\n
LOCATION:3183 Jefferson Street Napa\, CA 94558-4923
UID:e.3042.451
SEQUENCE:3
DTSTAMP:20260425T114934Z
URL:https://business.napacountyhcc.com/events/details/july-mixer-hosted-by-self-help-credit-union-451
END:VEVENT

END:VCALENDAR
