BEGIN:VCALENDAR
VERSION:2.0
PRODID:-//ChamberMaster//Event Calendar 2.0//EN
METHOD:PUBLISH
X-PUBLISHED-TTL:P3D
REFRESH-INTERVAL:P3D
CALSCALE:GREGORIAN
BEGIN:VEVENT
DTSTART:20230630T003000Z
DTEND:20230630T023000Z
X-MICROSOFT-CDO-ALLDAYEVENT:FALSE
SUMMARY:June 2023 Frederick & Co. Woodworks Mixer
DESCRIPTION:This month\, we'll get to take a look at a fully-operational Woodworking Shop at Frederick & Co Woodworks\, our generous Mixer host.\n\nJoin us to Come and network with experts in various industries. \n\n\n\nFind out how the Napa Hispanic Chamber of Commerce can help you with your business needs. Let us know about your business while you meet\, and most of all\, support the small business community in our lovely Napa Valley. \n\n\n\nBe one of the first five attendees that brings a raffle prize\, and join us at the next mixer for FREE! And of course\, all will have a chance at winning a raffle prize\, too.\n\n\n\nNetworking. Business Opportunities. Support Local Businesses.
X-ALT-DESC;FMTTYPE=text/html:<p>This month\, we&#39\;ll get to take a look at a fully-operational Woodworking Shop at Frederick &amp\; Co Woodworks\, our generous Mixer host.</p>\n\n<p>Join us to&nbsp\;<span style="box-sizing: border-box\; margin: 0px\; padding: 0px\; border: 0px rgb(248\, 248\, 248)\; font-style: inherit\; font-variant: inherit\; font-weight: inherit\; font-stretch: inherit\; line-height: inherit\; font-optical-sizing: inherit\; font-kerning: inherit\; font-feature-settings: inherit\; font-variation-settings: inherit\; vertical-align: baseline\;">Come and network with experts in various industries.&nbsp\;</span><br style="box-sizing: border-box\;" />\n<br style="box-sizing: border-box\;" />\n<span style="box-sizing: border-box\; margin: 0px\; padding: 0px\; border: 0px rgb(248\, 248\, 248)\; font-style: inherit\; font-variant: inherit\; font-weight: inherit\; font-stretch: inherit\; line-height: inherit\; font-optical-sizing: inherit\; font-kerning: inherit\; font-feature-settings: inherit\; font-variation-settings: inherit\; vertical-align: baseline\; outline: 0px\;">Find out how the Napa Hispanic Chamber of Commerce can help you with your business needs. Let us know about your business while you meet\, and most of all\, support the small business community in our lovely Napa Valley.&nbsp\;</span><br style="box-sizing: border-box\;" />\n<br style="box-sizing: border-box\;" />\n<span style="box-sizing: border-box\; margin: 0px\; padding: 0px\; border: 0px rgb(248\, 248\, 248)\; font-style: inherit\; font-variant: inherit\; font-weight: inherit\; font-stretch: inherit\; line-height: inherit\; font-optical-sizing: inherit\; font-kerning: inherit\; font-feature-settings: inherit\; font-variation-settings: inherit\; vertical-align: baseline\;">Be one of the first five attendees that brings a raffle prize\, and join us at the next mixer for FREE! And of course\, all will have a&nbsp\;chance at winning a raffle prize\, too.</span><br style="box-sizing: border-box\;" />\n<br style="box-sizing: border-box\;" />\n<span style="box-sizing: border-box\; margin: 0px\; padding: 0px\; border: 0px rgb(248\, 248\, 248)\; font-style: inherit\; font-variant: inherit\; font-weight: inherit\; font-stretch: inherit\; line-height: inherit\; font-optical-sizing: inherit\; font-kerning: inherit\; font-feature-settings: inherit\; font-variation-settings: inherit\; vertical-align: baseline\;">Networking. Business Opportunities. Support Local Businesses.</span><br style="box-sizing: border-box\;" />\n&nbsp\;</p>\n
LOCATION:1125 4th Avenue Napa\, CA.
UID:e.3042.435
SEQUENCE:3
DTSTAMP:20260425T140715Z
URL:https://business.napacountyhcc.com/events/details/june-2023-frederick-co-woodworks-mixer-435
END:VEVENT

END:VCALENDAR
