BEGIN:VCALENDAR
VERSION:2.0
PRODID:-//ChamberMaster//Event Calendar 2.0//EN
METHOD:PUBLISH
X-PUBLISHED-TTL:P3D
REFRESH-INTERVAL:P3D
CALSCALE:GREGORIAN
BEGIN:VEVENT
DTSTART;VALUE=DATE:20250506
DTEND;VALUE=DATE:20250517
TRANSP:TRANSPARENT
X-MICROSOFT-CDO-ALLDAYEVENT:TRUE
SUMMARY:La Onda 2025 - Suite ticket Raffle
DESCRIPTION:Win 2 VIP Tickets to the Latino Leaders Suite at La Onda! ($2\,700 Value)\n\nOnly $50 to Enter   Raffle Closes soon!\n\nDon't miss this chance to experience La Onda in true VIP style an exclusive weekend of Latino culture\, leadership\, music\, and connection.\n\n100% of raffle proceeds support the Hispanic Chamber Foundation's helping elevate Latino voices in civic leadership across Napa County.\n\n  What You'll Win (for just $50):\n\n\n	\n	2 VIP Suite tickets ($2\,700 value)\n	\n	\n	2-day access near the main stage\n	\n	\n	Open bar + gourmet hospitality\n	\n	\n	Premium amenities all weekend\n	\n	\n	Access to elected officials\, cultural leaders\, artists\, and changemakers\n	\n	\n	Special guest appearances\n	\n\n\n  Tickets will sell fast   raffle ends May 16th\n\n  Register Today
X-ALT-DESC;FMTTYPE=text/html:<p data-end="258" data-start="127">&#127903\; <strong data-end="206" data-start="130">Win 2 VIP Tickets to the Latino Leaders Suite at La Onda! ($2\,700 Value)</strong><br data-end="209" data-start="206" />\n<strong data-end="258" data-start="209">Only $50 to Enter &ndash\; Raffle Closes soon!</strong></p>\n\n<p data-end="401" data-start="260">Don&rsquo\;t miss this chance to experience <strong data-end="326" data-start="297">La Onda in true VIP style</strong>&mdash\;an exclusive weekend of Latino culture\, leadership\, music\, and connection.</p>\n\n<p data-end="632" data-start="403"><strong data-end="561" data-start="441">100% of raffle proceeds support the Hispanic Chamber Foundation&rsquo\;s </strong>helping elevate Latino voices in civic leadership across Napa County.</p>\n\n<p data-end="674" data-start="634">&#128293\; <strong data-end="672" data-start="637">What You&rsquo\;ll Win (for just $50):</strong></p>\n\n<ul data-end="930" data-start="675">\n	<li data-end="713" data-start="675">\n	<p data-end="713" data-start="677">2 VIP Suite tickets ($2\,700 value)</p>\n	</li>\n	<li data-end="750" data-start="714">\n	<p data-end="750" data-start="716">2-day access near the main stage</p>\n	</li>\n	<li data-end="789" data-start="751">\n	<p data-end="789" data-start="753"><strong data-end="765" data-start="753">Open bar</strong> + gourmet hospitality</p>\n	</li>\n	<li data-end="823" data-start="790">\n	<p data-end="823" data-start="792">Premium amenities all weekend</p>\n	</li>\n	<li data-end="900" data-start="824">\n	<p data-end="900" data-start="826">Access to elected officials\, cultural leaders\, artists\, and changemakers</p>\n	</li>\n	<li data-end="930" data-start="901">\n	<p data-end="930" data-start="903">Special guest appearances</p>\n	</li>\n</ul>\n\n<p data-end="1041" data-start="932">&#127915\; <strong data-end="987" data-start="935">Tickets will sell fast &ndash\; raffle ends May 16th</strong><br data-end="990" data-start="987" />\n&#128073\; <strong data-end="1041" data-start="993">Register Today</strong></p>\n
LOCATION:
UID:e.3042.504
SEQUENCE:3
DTSTAMP:20260423T210443Z
URL:https://business.napacountyhcc.com/events/details/la-onda-2025-suite-ticket-raffle-504
END:VEVENT

END:VCALENDAR
