BEGIN:VCALENDAR
VERSION:2.0
PRODID:-//ChamberMaster//Event Calendar 2.0//EN
METHOD:PUBLISH
X-PUBLISHED-TTL:P3D
REFRESH-INTERVAL:P3D
CALSCALE:GREGORIAN
BEGIN:VEVENT
DTSTART;VALUE=DATE:20250531
DTEND;VALUE=DATE:20250601
TRANSP:TRANSPARENT
X-MICROSOFT-CDO-ALLDAYEVENT:TRUE
SUMMARY:La Onda Vip Suites Experience
DESCRIPTION:You're invited to experience La Onda Suite a VIP event unlike any other on May 31 and June 1st\, 2025\, at the Napa Valley Expo.\n\nIn proud partnership between Amplify Napa Valley\, the Napa County Hispanic Chamber Foundation\, and BALEO (Bay Area Latino Elected Officials)\, this exclusive suite offers a premium experience while celebrating Latino leadership\, culture\, and community empowerment all in support of impactful nonprofit initiatives.\n\n\n  This event is made possible by our generous VIP Sponsor\, Latitude 38.\n\n\n\n  What Is La Onda Suite?\n\nLa Onda Suite is a Latino Leaders Gathering a space designed to uplift\, connect\, and inspire Latino business professionals\, elected officials\, artists\, and community advocates. It's more than just a music experience it's a celebration of our collective voice\, vision\, and future.\n\n\n  Why Attend?\n\n\n	\n	Exclusive Networking   Connect with influential Latino leaders\, changemakers\, and Bay Area elected officials.\n	\n	\n	Luxury Amenities   Enjoy catered meals\, private bar service\, and A/C restrooms in a stylish\, climate-controlled suite.\n	\n	\n	Premier Views   Access a prime viewing area near the main stage.\n	\n	\n	Fast-Track Entry   Skip the lines and move with ease through VIP access points.\n	\n	\n	Celebrate Culture   Immerse yourself in a space that honors Latino identity\, creativity\, and resilience.\n	\n	\n	Meet Emerging Talent   Engage with Amplify's Emerging Artist grantees and rising stars in the music world.\n	\n\n\n\n  Who Should Attend?\n\n\n	\n	Business Owners & Community Leaders\n	\n	\n	Elected Officials & Policy Advocates\n	\n	\n	Champions of Latino Culture & Emerging Talent\n	\n\n\n\n   VIP Guest Passes\n\n\n	\n	1-Day Pass: $1\,350 per person\n	\n	\n	2-Day Pass: $2\,000 per person\n	\n\n\n\n  Sponsorship Opportunities\n\n \n\n\n	\n	$5\,000   4 VIP Guests\n	\n	\n	$2\,500   2 VIP Guests\n	\n	\n	$1\,750   1 VIP Guest\n	\n\n\n \n\n\n  Make an Impact\n\nThis is more than a concert it's an investment in the future of Latino leadership and community power.\n\nAll ticket and sponsorship contributions are 100% tax-deductible and directly support the missions of Amplify Napa Valley\, the Napa County Hispanic Chamber Foundation\, and BALEO\, promoting equity\, leadership\, and access across the Latino community.
X-ALT-DESC;FMTTYPE=text/html:<p data-end="429" data-start="304">You&#39\;re invited to experience <strong data-end="350" data-start="333">La Onda Suite</strong>&mdash\;a VIP event unlike any other&mdash\;on <strong data-end="399" data-start="383">May 31 and June 1st\, 2025</strong>\, at the <strong data-end="428" data-start="408">Napa Valley Expo</strong>.</p>\n\n<p data-end="760" data-start="431">In proud partnership between <strong data-end="483" data-start="460">Amplify Napa Valley</strong>\, the <strong data-end="532" data-start="489">Napa County Hispanic Chamber Foundation</strong>\, and <strong data-end="583" data-start="538">BALEO (Bay Area Latino Elected Officials)</strong>\, this exclusive suite offers a premium experience while celebrating <strong data-end="709" data-start="652">Latino leadership\, culture\, and community empowerment</strong>&mdash\;all in support of impactful nonprofit initiatives.</p>\n\n<blockquote data-end="840" data-start="762">\n<p data-end="840" data-start="764">&#127881\; <strong data-end="840" data-start="767">This event is made possible by our generous VIP Sponsor\, Latitude 38.</strong></p>\n</blockquote>\n\n<hr data-end="845" data-start="842" />\n<h3 data-end="876" data-start="847">&#127775\; What Is La Onda Suite?</h3>\n\n<p data-end="1161" data-start="878">La Onda Suite is a <strong data-end="925" data-start="897">Latino Leaders Gathering</strong>&mdash\;a space designed to uplift\, connect\, and inspire Latino business professionals\, elected officials\, artists\, and community advocates. It&rsquo\;s more than just a music experience&mdash\;it&rsquo\;s a celebration of our collective voice\, vision\, and future.</p>\n\n<hr data-end="1166" data-start="1163" />\n<h3 data-end="1186" data-start="1168">&#128293\; Why Attend?</h3>\n\n<ul data-end="1819" data-start="1188">\n	<li data-end="1305" data-start="1188">\n	<p data-end="1305" data-start="1190"><strong data-end="1214" data-start="1190">Exclusive Networking</strong> &ndash\; Connect with influential Latino leaders\, changemakers\, and Bay Area elected officials.</p>\n	</li>\n	<li data-end="1432" data-start="1306">\n	<p data-end="1432" data-start="1308"><strong data-end="1328" data-start="1308">Luxury Amenities</strong> &ndash\; Enjoy catered meals\, private bar service\, and A/C restrooms in a stylish\, climate-controlled suite.</p>\n	</li>\n	<li data-end="1505" data-start="1433">\n	<p data-end="1505" data-start="1435"><strong data-end="1452" data-start="1435">Premier Views</strong> &ndash\; Access a prime viewing area near the main stage.</p>\n	</li>\n	<li data-end="1593" data-start="1506">\n	<p data-end="1593" data-start="1508"><strong data-end="1528" data-start="1508">Fast-Track Entry</strong> &ndash\; Skip the lines and move with ease through VIP access points.</p>\n	</li>\n	<li data-end="1706" data-start="1594">\n	<p data-end="1706" data-start="1596"><strong data-end="1617" data-start="1596">Celebrate Culture</strong> &ndash\; Immerse yourself in a space that honors Latino identity\, creativity\, and resilience.</p>\n	</li>\n	<li data-end="1819" data-start="1707">\n	<p data-end="1819" data-start="1709"><strong data-end="1733" data-start="1709">Meet Emerging Talent</strong> &ndash\; Engage with Amplify&rsquo\;s Emerging Artist grantees and rising stars in the music world.</p>\n	</li>\n</ul>\n\n<hr data-end="1824" data-start="1821" />\n<h3 data-end="1851" data-start="1826">&#127919\; Who Should Attend?</h3>\n\n<ul data-end="1983" data-start="1853">\n	<li data-end="1892" data-start="1853">\n	<p data-end="1892" data-start="1855">Business Owners &amp\; Community Leaders</p>\n	</li>\n	<li data-end="1933" data-start="1893">\n	<p data-end="1933" data-start="1895">Elected Officials &amp\; Policy Advocates</p>\n	</li>\n	<li data-end="1983" data-start="1934">\n	<p data-end="1983" data-start="1936">Champions of Latino Culture &amp\; Emerging Talent</p>\n	</li>\n</ul>\n\n<hr data-end="1988" data-start="1985" />\n<h3 data-end="2016" data-start="1990">&#127903\;&#65039\; VIP Guest Passes</h3>\n\n<ul data-end="2092" data-start="2017">\n	<li data-end="2054" data-start="2017">\n	<p data-end="2054" data-start="2019"><strong data-end="2033" data-start="2019">1-Day Pass</strong>: $1\,350 per person</p>\n	</li>\n	<li data-end="2092" data-start="2055">\n	<p data-end="2092" data-start="2057"><strong data-end="2071" data-start="2057">2-Day Pass</strong>: $2\,000 per person</p>\n	</li>\n</ul>\n\n<hr data-end="2097" data-start="2094" />\n<h3 data-end="2133" data-start="2099">&#129309\; Sponsorship Opportunities</h3>\n\n<p data-end="2220" data-start="2135">&nbsp\;</p>\n\n<ul data-end="2649" data-start="2561">\n	<li data-end="2590" data-start="2561">\n	<p data-end="2590" data-start="2563"><strong data-end="2573" data-start="2563">$5\,000</strong> &ndash\; 4 VIP Guests</p>\n	</li>\n	<li data-end="2620" data-start="2591">\n	<p data-end="2620" data-start="2593"><strong data-end="2603" data-start="2593">$2\,500</strong> &ndash\; 2 VIP Guests</p>\n	</li>\n	<li data-end="2649" data-start="2621">\n	<p data-end="2649" data-start="2623"><strong data-end="2633" data-start="2623">$1\,750</strong> &ndash\; 1 VIP Guest</p>\n	</li>\n</ul>\n\n<p data-end="2724" data-start="2651">&nbsp\;</p>\n\n<hr data-end="2729" data-start="2726" />\n<h3 data-end="2754" data-start="2731">&#128165\; Make an Impact</h3>\n\n<p data-end="2862" data-start="2756">This is more than a concert&mdash\;<strong data-end="2862" data-start="2784">it&rsquo\;s an investment in the future of Latino leadership and community power.</strong></p>\n\n<p data-end="3128" data-start="2864">All ticket and sponsorship contributions are <strong data-end="2932" data-start="2909">100% tax-deductible</strong> and directly support the missions of <strong data-end="2993" data-start="2970">Amplify Napa Valley</strong>\, the <strong data-end="3042" data-start="2999">Napa County Hispanic Chamber Foundation</strong>\, and <strong data-end="3057" data-start="3048">BALEO</strong>\, promoting equity\, leadership\, and access across the Latino community.</p>\n
LOCATION:
UID:e.3042.503
SEQUENCE:3
DTSTAMP:20260423T205447Z
URL:https://business.napacountyhcc.com/events/details/la-onda-vip-suites-experience-503
END:VEVENT

END:VCALENDAR
