BEGIN:VCALENDAR
VERSION:2.0
PRODID:-//ChamberMaster//Event Calendar 2.0//EN
METHOD:PUBLISH
X-PUBLISHED-TTL:P3D
REFRESH-INTERVAL:P3D
CALSCALE:GREGORIAN
BEGIN:VEVENT
DTSTART:20240920T183000Z
DTEND:20240920T200000Z
X-MICROSOFT-CDO-ALLDAYEVENT:FALSE
SUMMARY:Latino Leader Roundtable - Sept 2024
DESCRIPTION:The Latino Leaders Round Table (LLRT) is a collaborative effort between the Napa County Hispanic Chamber of Commerce and the LLRT aim to cultivate a more inclusive community by regularly convening influential leaders from various backgrounds. Our mission is to bring together leaders from Latinx and non-Latinx communities\, such as politicians\, educators\, government officials\, healthcare institutions\, nonprofit organizations\, and the business community. We seek to work cooperatively to encourage diversity\, inclusivity\, and active participation within the Latinx community. We aim to improve a better understanding of this dynamic community?s distinct needs and obstacles while at the same time promoting the richness of the Latinx culture. Together\, we pledge to make a positive impact by actively participating in and supporting initiatives that aim to improve the well-being and prosperity of our Latinx community.
X-ALT-DESC;FMTTYPE=text/html:<p dir="ltr" style="line-height:1.38\;margin-top:0pt\;margin-bottom:0pt\;"><span style="font-size:14px\;"><span style="color: rgb(34\, 34\, 34)\; font-family: Arial\, Helvetica\, sans-serif\;">The Latino Leaders Round Table (LLRT) is a collaborative effort between the Napa County Hispanic Chamber of Commerce and the LLRT&nbsp\;</span><span style="font-family: Arial\, sans-serif\; color: rgb(0\, 0\, 0)\; background-color: transparent\; font-variant-numeric: normal\; font-variant-east-asian: normal\; font-variant-alternates: normal\; font-variant-position: normal\; vertical-align: baseline\; white-space-collapse: preserve\;">aim to cultivate a more inclusive community by regularly </span><span id="docs-internal-guid-235c255e-7fff-240b-ff54-23261d07439c"><span style="font-family: Arial\, sans-serif\; color: rgb(0\, 0\, 0)\; background-color: transparent\; font-variant-numeric: normal\; font-variant-east-asian: normal\; font-variant-alternates: normal\; font-variant-position: normal\; vertical-align: baseline\; white-space-collapse: preserve\;">convening influential leaders from various backgrounds. Our mission is to bring together leaders from Latinx and non-Latinx communities\, such as politicians\, educators\, </span></span></span><span style="font-size:14px\;"><span id="docs-internal-guid-235c255e-7fff-240b-ff54-23261d07439c"><span style="font-family: Arial\, sans-serif\; color: rgb(0\, 0\, 0)\; background-color: transparent\; font-variant-numeric: normal\; font-variant-east-asian: normal\; font-variant-alternates: normal\; font-variant-position: normal\; vertical-align: baseline\; white-space-collapse: preserve\;">government officials\, healthcare institutions\, nonprofit organizations\, and the business community. We seek to work cooperatively to encourage diversity\, inclusivity\, and active participation within the Latinx community. We aim to improve a better understanding of </span></span></span><span style="font-size:14px\;"><span id="docs-internal-guid-235c255e-7fff-240b-ff54-23261d07439c"><span style="font-family: Arial\, sans-serif\; color: rgb(0\, 0\, 0)\; background-color: transparent\; font-variant-numeric: normal\; font-variant-east-asian: normal\; font-variant-alternates: normal\; font-variant-position: normal\; vertical-align: baseline\; white-space-collapse: preserve\;">this dynamic community?s distinct needs and obstacles while at the same time promoting the richness of the Latinx culture. Together\, we pledge to make a positive impact by actively participating in and supporting initiatives that aim to improve the well-being and prosperity of our Latinx community.</span></span></span></p>\n
LOCATION:Galpao Gaucho Brazilian Steak House 1990 Trower Ave Napa\, CA 94558 Doors will open at 11:30am\, start time at 12:00pm sharp.
UID:e.3042.482
SEQUENCE:3
DTSTAMP:20260424T124218Z
URL:https://business.napacountyhcc.com/events/details/latino-leader-roundtable-sept-2024-482
END:VEVENT

END:VCALENDAR
