BEGIN:VCALENDAR
VERSION:2.0
PRODID:-//ChamberMaster//Event Calendar 2.0//EN
METHOD:PUBLISH
X-PUBLISHED-TTL:P3D
REFRESH-INTERVAL:P3D
CALSCALE:GREGORIAN
BEGIN:VEVENT
DTSTART:20250925T003000Z
DTEND:20250925T020000Z
X-MICROSOFT-CDO-ALLDAYEVENT:FALSE
SUMMARY:Loteria Night @ Mothers Tacos | Sept 2025
DESCRIPTION:Loter a Night @ Mother's Tacos  \n\nHosted by the Hispanic Chamber of Commerce Foundation\n\nAll proceeds benefit the HCC Foundation\, directly supporting Latino Leadership Development Programs that empower the next generation of leaders in our community.\n\n   Suggested donation: $25 per person (includes entry and Loter a play).\n\nAdditional donations welcome every contribution goes directly to building stronger leaders.\n\nCome play\, connect\, and make an impact every card supports leadership\, equity\, and opportunity.
X-ALT-DESC;FMTTYPE=text/html:<p data-end="177" data-start="75"><strong data-end="115" data-start="75">&#127881\; Loter&iacute\;a Night @ Mother&rsquo\;s Tacos &#127790\;</strong><br data-end="118" data-start="115" />\n<strong data-end="175" data-start="118">Hosted by the Hispanic Chamber of Commerce Foundation</strong></p>\n\n<p data-end="281" data-start="179">All proceeds benefit the <strong data-end="434" data-start="416">HCC Foundation</strong>\, directly supporting <strong data-end="498" data-start="456">Latino Leadership Development Programs</strong> that empower the next generation of leaders in our community.</p>\n\n<p data-end="745" data-start="564">&#127903\;&#65039\; Suggested donation: <strong data-end="606" data-start="588">$25 per person</strong> (includes entry and Loter&iacute\;a play).<br data-end="652" data-start="649" />\nAdditional donations welcome&mdash\;every contribution goes directly to building stronger leaders.</p>\n\n<p data-end="844" data-start="747">Come play\, connect\, and make an impact&mdash\;every card supports leadership\, equity\, and opportunity.</p>\n
LOCATION:
UID:e.3042.513
SEQUENCE:3
DTSTAMP:20260423T135817Z
URL:https://business.napacountyhcc.com/events/details/loteria-night-mothers-tacos-sept-2025-513
END:VEVENT

END:VCALENDAR
