BEGIN:VCALENDAR
VERSION:2.0
PRODID:-//ChamberMaster//Event Calendar 2.0//EN
METHOD:PUBLISH
X-PUBLISHED-TTL:P3D
REFRESH-INTERVAL:P3D
CALSCALE:GREGORIAN
BEGIN:VEVENT
DTSTART:20230428T180000Z
DTEND:20230428T193000Z
X-MICROSOFT-CDO-ALLDAYEVENT:FALSE
SUMMARY:Lunch & Learn: Business Credit - What's important to know April 2023
DESCRIPTION:NCHCC Lunchtime event to learn about a topic that can support your business or personal life\, while living in our community. \n\n\n\nThis month\, we will learn about the difference and importance of both personal credit and business credit as a business owner.\n\nFind out why it is important to create a 'Corporate Veil' through your Business Formalities. Learn how banks and lenders determine your businesses credit worthiness\, and why your business structure is at the foundation of their consideration.\n\n\n\nBecause we are using the space of a restaurant before their lunch hours\, we appreciate all attendees coming promptly at 11AM\, so we can get started and free the restaurant seats for their day's guests when they open for lunch. For those that will be paying at the event\, please arrive 5-10 minutes early\, so that we may settle that up before we begin promptly at 11AM.\n\n\n\nThe presenter Sheri Kellogg from BIZ365 Agency\, will be sending handouts via email from her direct contact email\, so keep an eye out for an email the morning of the event. Bring a notepad to take notes\, as there will be a lot of information we cover in the time we're together.\n\n\n\nWe are excited to have lunch with you\, and hope you find great value in our Lunch & Learns!
X-ALT-DESC;FMTTYPE=text/html:<p>NCHCC Lunchtime event to learn about a topic that can support your business or personal life\, while living in our community.&nbsp\;<br />\n<br />\nThis month\, we will learn about the difference and importance of both personal credit and business credit as a business owner.</p>\n\n<p>Find out why it is important to create a &#39\;Corporate Veil&#39\; through your Business Formalities. Learn how banks and lenders determine your businesses credit worthiness\, and why your business structure is at the foundation of their consideration.<br />\n<br />\nBecause we are using the space of a restaurant before their lunch hours\, we appreciate all attendees coming promptly at 11AM\, so we can get started and free the restaurant seats for their day&#39\;s&nbsp\;guests when they open for lunch. For those that will be paying at the event\, please arrive 5-10 minutes early\, so that we may settle that up before we begin promptly at 11AM.<br />\n<br />\nThe presenter Sheri Kellogg from BIZ365 Agency\, will be sending&nbsp\;handouts via email from her direct contact email\, so keep an eye out for an email the morning of the event. Bring a notepad to take notes\, as there will be a lot of information we cover in the time we&#39\;re together.<br />\n<br />\nWe are excited to have lunch with&nbsp\;you\, and hope you find great value in our Lunch &amp\; Learns!</p>\n\n<p>&nbsp\;</p>\n
LOCATION:Napa Valley Bistro 975 Clinton St Napa
UID:e.3042.433
SEQUENCE:3
DTSTAMP:20260425T172752Z
URL:https://business.napacountyhcc.com/events/details/lunch-learn-business-credit-what-s-important-to-know-april-2023-433
END:VEVENT

END:VCALENDAR
