BEGIN:VCALENDAR
VERSION:2.0
PRODID:-//ChamberMaster//Event Calendar 2.0//EN
METHOD:PUBLISH
X-PUBLISHED-TTL:P3D
REFRESH-INTERVAL:P3D
CALSCALE:GREGORIAN
BEGIN:VEVENT
DTSTART:20230630T180000Z
DTEND:20230630T193000Z
X-MICROSOFT-CDO-ALLDAYEVENT:FALSE
SUMMARY:Lunch & Learn: EV 101 - Save Time\, Money\, and the Planet
DESCRIPTION:Join us for lunch and a presentation by environmental non-profit\, Ride and Drive Clean\, to learn how you can save time\, money\, and the planet when you switch to driving an electric vehicle.\n\n\n\nYou'll learn about the benefits of EVs\, discover a variety of EV models\, and learn about charging at home\, at work\, and on the road. We'll cover both standard EV Incentives for individuals and businesses\, (up to $9\,500) and enhanced incentives for income-qualifying MCE customers (up to $20\,500 off an EV). \n\n\n\nAll registrants must fill out survey questions\, both this one before\, and one that will be requested after the presentation\, thank you!: https://forms.gle/y6wi3XhRByYtznHx5
X-ALT-DESC;FMTTYPE=text/html:<div>Join us for lunch and a presentation by environmental non-profit\, Ride and Drive Clean\, to learn how you can save time\, money\, and the planet when you switch to driving an electric vehicle.<br />\n<br />\nYou&#39\;ll learn about the benefits of EVs\, discover a variety of EV models\, and learn about charging at home\,&nbsp\;at work\, and on the road. We&#39\;ll cover both standard EV Incentives for individuals and businesses\, (up to $9\,500) and enhanced incentives for income-qualifying MCE customers (up to $20\,500 off an EV).&nbsp\;</div>\n\n<div><br />\nAll registrants must fill out survey questions\, both this one before\, and one that will be requested after the presentation\, thank you!:&nbsp\;https://forms.gle/y6wi3XhRByYtznHx5<br />\n&nbsp\;</div>\n
LOCATION:
UID:e.3042.449
SEQUENCE:3
DTSTAMP:20260425T134843Z
URL:https://business.napacountyhcc.com/events/details/lunch-learn-ev-101-save-time-money-and-the-planet-449
END:VEVENT

END:VCALENDAR
