BEGIN:VCALENDAR
VERSION:2.0
PRODID:-//ChamberMaster//Event Calendar 2.0//EN
METHOD:PUBLISH
X-PUBLISHED-TTL:P3D
REFRESH-INTERVAL:P3D
CALSCALE:GREGORIAN
BEGIN:VEVENT
DTSTART:20230324T003000Z
DTEND:20230324T023000Z
X-MICROSOFT-CDO-ALLDAYEVENT:FALSE
SUMMARY:March 2023 Zuniga Optical Mixer
DESCRIPTION:Come and network with experts in various industries. \n\n\n\nFind out how the Napa Hispanic Chamber of Commerce can help you with your business needs. Let us know about your business while you meet\, and most of all\, support the small business community in our lovely Napa Valley. \n\n\n\nBe one of the first five attendees that brings a raffle prize\, and join us at the next mixer for FREE! And of course\, all will have a chance at winning a raffle prize\, too.\n\n\n\nNetworking. Business Opportunities. Support Local Businesses.\n\n\n\n*When registering\, We thank you for choosing 'Member' or 'Non-Member' if you are not a board member. :)
X-ALT-DESC;FMTTYPE=text/html:Come and network with experts in various industries.&nbsp\;<br />\n<br />\nFind out how the Napa Hispanic Chamber of Commerce can help you with your business needs. Let us know about your business while you meet\, and most of all\, support the small business community in our lovely Napa Valley.&nbsp\;<br />\n<br />\nBe one of the first five attendees that brings a raffle prize\, and join us at the next mixer for FREE! And of course\, all will have a&nbsp\;chance at winning a raffle prize\, too.<br />\n<br />\nNetworking. Business Opportunities. Support Local Businesses.<br />\n<br />\n*When registering\, We thank you for choosing &#39\;Member&#39\; or &#39\;Non-Member&#39\; if you are not a board member. :)
LOCATION:Zuniga Optical 770 Main St Napa\, CA. 94559
UID:e.3042.427
SEQUENCE:3
DTSTAMP:20260425T191946Z
URL:https://business.napacountyhcc.com/events/details/march-2023-zuniga-optical-mixer-427
END:VEVENT

END:VCALENDAR
