BEGIN:VCALENDAR
VERSION:2.0
PRODID:-//ChamberMaster//Event Calendar 2.0//EN
METHOD:PUBLISH
X-PUBLISHED-TTL:P3D
REFRESH-INTERVAL:P3D
CALSCALE:GREGORIAN
BEGIN:VEVENT
DTSTART:20230518T003000Z
DTEND:20230518T023000Z
X-MICROSOFT-CDO-ALLDAYEVENT:FALSE
SUMMARY:May 2023 Mixer - Cross Country Mortgage & Executives Multi Services
DESCRIPTION:We've got not just one\, but two hosts this month!!\n\n\n\nThank you to both Cross Country Mortgage\, Napa as well as Executives Multiservices - Both are fairly new members\, and we are honored!\n\n\n\nWe hope you'll join us to meet the kind folks of these two companies\, as well as other business owners and representatives in our community.\n\n\n\nWe are growing and loving the camaraderie we are experiencing at these mixers\, won't you come and see for yourself?\n\n\n\nCome and network with experts in various industries. \n\n\n\nFind out how the Napa Hispanic Chamber of Commerce can help you with your business needs. Let us know about your business while you meet\, and most of all\, support the small business community in our lovely Napa Valley. \n\n\n\nBe one of the first five attendees that brings a raffle prize\, and join us at the next mixer for FREE! And of course\, all will have a chance at winning a raffle prize\, too.\n\n\n\nNetworking. Business Opportunities. Support Local Businesses.\n\n\n\nExecutives Multi Services - Go check out how they can support your business needs.\n\n\n\n\n\n**When registering\, We thank you for choosing 'Member' or 'Non-Member' if you are not a board member.** :)
X-ALT-DESC;FMTTYPE=text/html:<span style="font-size:18px\;"><span style="box-sizing: border-box\; color: rgb(93\, 84\, 73)\; font-family: &quot\;Maven Pro&quot\;\, HelveticaNeue\, &quot\;Helvetica Neue&quot\;\, Helvetica\, Arial\, sans-serif\;">We&#39\;ve got not just one\, but <u><strong><em>two</em></strong></u> hosts this month!!<br />\n<br />\nThank you to both Cross Country Mortgage\, Napa as well as Executives Multiservices - Both are fairly new members\, and we are honored!<br />\n<br />\nWe hope you&#39\;ll join us to meet the kind folks of these two companies\, as well as other business owners and representatives in our community.<br />\n<br />\nWe are growing and loving the camaraderie we are experiencing at these mixers\, won&#39\;t you come and see for yourself?</span></span><br style="box-sizing: border-box\; color: rgb(93\, 84\, 73)\; font-family: &quot\;Maven Pro&quot\;\, HelveticaNeue\, &quot\;Helvetica Neue&quot\;\, Helvetica\, Arial\, sans-serif\; font-size: 18px\;" />\n<br />\n<span style="color: rgb(93\, 84\, 73)\; font-family: &quot\;Maven Pro&quot\;\, HelveticaNeue\, &quot\;Helvetica Neue&quot\;\, Helvetica\, Arial\, sans-serif\; font-size: 18px\;">Come and network with experts in various industries.&nbsp\;</span><br />\n<br style="box-sizing: border-box\; color: rgb(93\, 84\, 73)\; font-family: &quot\;Maven Pro&quot\;\, HelveticaNeue\, &quot\;Helvetica Neue&quot\;\, Helvetica\, Arial\, sans-serif\; font-size: 18px\;" />\n<span style="font-size:18px\;"><span style="box-sizing: border-box\; color: rgb(93\, 84\, 73)\; font-family: &quot\;Maven Pro&quot\;\, HelveticaNeue\, &quot\;Helvetica Neue&quot\;\, Helvetica\, Arial\, sans-serif\;">Find out how the Napa Hispanic Chamber of Commerce can help you with your business needs. Let us know about your business while you meet\, and most of all\, support the small business community in our lovely Napa Valley.&nbsp\;</span><br style="box-sizing: border-box\; color: rgb(93\, 84\, 73)\; font-family: &quot\;Maven Pro&quot\;\, HelveticaNeue\, &quot\;Helvetica Neue&quot\;\, Helvetica\, Arial\, sans-serif\; font-size: 18px\;" />\n<br style="box-sizing: border-box\; color: rgb(93\, 84\, 73)\; font-family: &quot\;Maven Pro&quot\;\, HelveticaNeue\, &quot\;Helvetica Neue&quot\;\, Helvetica\, Arial\, sans-serif\; font-size: 18px\;" />\n<span style="box-sizing: border-box\; color: rgb(93\, 84\, 73)\; font-family: &quot\;Maven Pro&quot\;\, HelveticaNeue\, &quot\;Helvetica Neue&quot\;\, Helvetica\, Arial\, sans-serif\;">Be one of the first five attendees that brings a raffle prize\, and join us at the next mixer for FREE! And of course\, all will have a&nbsp\;chance at winning a raffle prize\, too.</span><br style="box-sizing: border-box\; color: rgb(93\, 84\, 73)\; font-family: &quot\;Maven Pro&quot\;\, HelveticaNeue\, &quot\;Helvetica Neue&quot\;\, Helvetica\, Arial\, sans-serif\; font-size: 18px\;" />\n<br style="box-sizing: border-box\; color: rgb(93\, 84\, 73)\; font-family: &quot\;Maven Pro&quot\;\, HelveticaNeue\, &quot\;Helvetica Neue&quot\;\, Helvetica\, Arial\, sans-serif\; font-size: 18px\;" />\n<span style="box-sizing: border-box\; color: rgb(93\, 84\, 73)\; font-family: &quot\;Maven Pro&quot\;\, HelveticaNeue\, &quot\;Helvetica Neue&quot\;\, Helvetica\, Arial\, sans-serif\;">Networking. Business Opportunities. Support Local Businesses.</span><br style="box-sizing: border-box\; color: rgb(93\, 84\, 73)\; font-family: &quot\;Maven Pro&quot\;\, HelveticaNeue\, &quot\;Helvetica Neue&quot\;\, Helvetica\, Arial\, sans-serif\; font-size: 18px\;" />\n<br />\n<a href="https://xecutivesmultiservices.com/">Executives Multi Services</a> - Go check out how they can support your business needs.</span><br style="box-sizing: border-box\; color: rgb(93\, 84\, 73)\; font-family: &quot\;Maven Pro&quot\;\, HelveticaNeue\, &quot\;Helvetica Neue&quot\;\, Helvetica\, Arial\, sans-serif\; font-size: 18px\;" />\n<br />\n<br />\n<span style="font-size:14px\;"><span style="box-sizing: border-box\; color: rgb(93\, 84\, 73)\; font-family: &quot\;Maven Pro&quot\;\, HelveticaNeue\, &quot\;Helvetica Neue&quot\;\, Helvetica\, Arial\, sans-serif\;">**When registering\, We thank you for choosing &#39\;Member&#39\; or &#39\;Non-Member&#39\; if you are not a board member.** :)</span></span>
LOCATION:2001 Jefferson St Napa\, CA
UID:e.3042.434
SEQUENCE:3
DTSTAMP:20260425T154901Z
URL:https://business.napacountyhcc.com/events/details/may-2023-mixer-cross-country-mortgage-executives-multi-services-434
END:VEVENT

END:VCALENDAR
