BEGIN:VCALENDAR
VERSION:2.0
PRODID:-//ChamberMaster//Event Calendar 2.0//EN
METHOD:PUBLISH
X-PUBLISHED-TTL:P3D
REFRESH-INTERVAL:P3D
CALSCALE:GREGORIAN
BEGIN:VEVENT
DTSTART:20250628T003000Z
DTEND:20250628T020000Z
X-MICROSOFT-CDO-ALLDAYEVENT:FALSE
SUMMARY:McClelland House Chamber Mixer June 2025
DESCRIPTION:Join the Napa County Hispanic Chamber for our June Mixer located at the McClelland House. Experience the stately Victorian elegance of this historic Inn and see the incredible detail that welcomes guests to the Napa Valley.
X-ALT-DESC;FMTTYPE=text/html:Join the Napa County Hispanic Chamber for our June Mixer located at the McClelland House. Experience the stately Victorian elegance of this historic Inn and see the incredible detail that welcomes guests to the Napa Valley.&nbsp\;
LOCATION:The McClelland House 569 Randolph St Napa CA 94559
UID:e.3042.506
SEQUENCE:3
DTSTAMP:20260423T191458Z
URL:https://business.napacountyhcc.com/events/details/mcclelland-house-chamber-mixer-june-2025-506
END:VEVENT

END:VCALENDAR
