BEGIN:VCALENDAR
VERSION:2.0
PRODID:-//ChamberMaster//Event Calendar 2.0//EN
METHOD:PUBLISH
X-PUBLISHED-TTL:P3D
REFRESH-INTERVAL:P3D
CALSCALE:GREGORIAN
BEGIN:VEVENT
DTSTART:20240725T003000Z
DTEND:20240725T020000Z
X-MICROSOFT-CDO-ALLDAYEVENT:FALSE
SUMMARY:Mixer Chamber Coalition - All Six Chamber's July 2024
DESCRIPTION:Napa Valley Networking Mixer\n\n\nJoin us for the Napa Valley Chamber Coalition for an all valley networking mixer connecting businesses across the Valley.\n \n\nLocation will be at Sterling Vineyards for small bites and wine on July 24th 5:30pm-7pm.
X-ALT-DESC;FMTTYPE=text/html:<div class="ahS2Le" style="-webkit-box-align: center\; align-items: center\; display: flex\; flex-wrap: wrap\; -webkit-box-pack: justify\; justify-content: space-between\; color: rgb(32\, 33\, 36)\; font-family: Roboto\, RobotoDraft\, Helvetica\, Arial\, sans-serif\; font-size: medium\;">\n<div aria-level="1" class="F9yp7e ikZYwf LgNcQe" dir="auto" role="heading" style="box-sizing: border-box\; font-family: docs-Raleway\; font-size: 24pt\; line-height: 1.25\; max-width: 100%\; min-width: 0px\; letter-spacing: 0px\;">Napa Valley Networking Mixer</div>\n</div>\n\n<div class="cBGGJ OIC90c" dir="auto" style="white-space-collapse: preserve\; line-height: 1.5\; font-family: docs-Raleway\; font-size: 11pt\; color: rgb(32\, 33\, 36)\; margin-top: 12px\;">Join us for the Napa Valley Chamber Coalition for an all valley networking mixer connecting businesses across the Valley.\n<div>&nbsp\;</div>\n\n<div><b>Location will be at Sterling Vineyards for small bites and wine on July 24th 5:30pm-7pm.</b></div>\n</div>\n
LOCATION:1111 Dunaweal Ln Calistoga\, CA 94515
UID:e.3042.477
SEQUENCE:3
DTSTAMP:20260424T141756Z
URL:https://business.napacountyhcc.com/events/details/mixer-chamber-coalition-all-six-chamber-s-july-2024-477
END:VEVENT

END:VCALENDAR
