BEGIN:VCALENDAR
VERSION:2.0
PRODID:-//ChamberMaster//Event Calendar 2.0//EN
METHOD:PUBLISH
X-PUBLISHED-TTL:P3D
REFRESH-INTERVAL:P3D
CALSCALE:GREGORIAN
BEGIN:VEVENT
DTSTART:20241122T013000Z
DTEND:20241122T030000Z
X-MICROSOFT-CDO-ALLDAYEVENT:FALSE
SUMMARY:Mixer November 2024
DESCRIPTION:Fundraising event\n\nWestin Verasa Hotel\nJoin us for the NCHCC Fundraising Mixer benefiting Toys for Tots! Support the cause while networking with local professionals.\n\nInstructions:\n\n\n	Bring a new unopened toy
X-ALT-DESC;FMTTYPE=text/html:<strong><span style="font-size:16px\;"><span style="font-family:verdana\;"><em>Fundraising event</em></span></span></strong><br />\nWestin Verasa Hotel\n<p>Join us for the&nbsp\;<strong>NCHCC Fundraising Mixer</strong>&nbsp\;benefiting&nbsp\;<strong>Toys for Tots</strong>! Support the cause while networking with local professionals.</p>\n\n<p><strong>Instructions:</strong></p>\n\n<ul>\n	<li>Bring a new unopened toy</li>\n</ul>\n
LOCATION:Westin Verasa Hotel 1314 McKinstry St\, Napa\, CA 94559
UID:e.3042.485
SEQUENCE:3
DTSTAMP:20260424T092026Z
URL:https://business.napacountyhcc.com/events/details/mixer-november-2024-485
END:VEVENT

END:VCALENDAR
