BEGIN:VCALENDAR
VERSION:2.0
PRODID:-//ChamberMaster//Event Calendar 2.0//EN
METHOD:PUBLISH
X-PUBLISHED-TTL:P3D
REFRESH-INTERVAL:P3D
CALSCALE:GREGORIAN
BEGIN:VEVENT
DTSTART:20250228T013000Z
DTEND:20250228T030000Z
X-MICROSOFT-CDO-ALLDAYEVENT:FALSE
SUMMARY:Napa College Mixer Event Feb 2025
DESCRIPTION:Join Us for an Exclusive Mixer at Napa Valley College!\n\n  Location: Napa Valley College Performing Arts Center\n\n  Date: Thursday\, February 27th\n\n  Time: 5:30 PM   7:00 PM\n\nConnect with local professionals\, community leaders\, and friends for an evening of great conversation\, networking\, and light refreshments in a vibrant setting.\n\nWe look forward to seeing you there!\n\nRSVP today to secure your spot.
X-ALT-DESC;FMTTYPE=text/html:&nbsp\;\n<p><strong>Join Us for an Exclusive Mixer at Napa Valley College!</strong></p>\n\n<p>&#128205\; <strong>Location:</strong> Napa Valley College Performing Arts Center<br />\n&#128197\; <strong>Date:</strong> Thursday\, February 27th<br />\n&#9200\; <strong>Time:</strong> 5:30 PM &ndash\; 7:00 PM</p>\n\n<p>Connect with local professionals\, community leaders\, and friends for an evening of great conversation\, networking\, and light refreshments in a vibrant setting.</p>\n\n<p>We look forward to seeing you there!</p>\n\n<p><strong>RSVP today to secure your spot.</strong></p>\n
LOCATION:2277 Napa Vallejo Hwy\, Napa\, CA 94558
UID:e.3042.493
SEQUENCE:3
DTSTAMP:20260424T041252Z
URL:https://business.napacountyhcc.com/events/details/napa-college-mixer-event-feb-2025-493
END:VEVENT

END:VCALENDAR
