BEGIN:VCALENDAR
VERSION:2.0
PRODID:-//ChamberMaster//Event Calendar 2.0//EN
METHOD:PUBLISH
X-PUBLISHED-TTL:P3D
REFRESH-INTERVAL:P3D
CALSCALE:GREGORIAN
BEGIN:VEVENT
DTSTART:20250321T003000Z
DTEND:20250321T020000Z
X-MICROSOFT-CDO-ALLDAYEVENT:FALSE
SUMMARY:Napa & Solano Hispanic Chamber Mixer March 2025
DESCRIPTION:Join Us in Mare Island for a Joint Mixer with the Napa and Solano Hispanic Chamber\n\n  Location: Mare Island\, Touro University 1750 Club Drive\, Vallejo CA 94592\n\n  Date: Thursday\, March 20th\n\n  Time: 5:30 PM   7:00 PM\n\nConnect with local professionals\, community leaders\, and friends for an evening of great conversation\, networking\, and light refreshments in a vibrant setting.\n\nWe look forward to seeing you there!\n\nRSVP today to secure your spot.
X-ALT-DESC;FMTTYPE=text/html:&nbsp\;\n<p><strong>Join Us&nbsp\;in Mare Island for a Joint&nbsp\;Mixer with the Napa and Solano Hispanic&nbsp\;Chamber</strong></p>\n\n<p>&#128205\; <strong>Location:</strong>&nbsp\;Mare Island\, Touro University&nbsp\;1750 Club Drive\, Vallejo CA 94592<br />\n&#128197\; <strong>Date:</strong> Thursday\, March 20th<br />\n&#9200\; <strong>Time:</strong> 5:30 PM &ndash\; 7:00 PM</p>\n\n<p>Connect with local professionals\, community leaders\, and friends for an evening of great conversation\, networking\, and light refreshments in a vibrant setting.</p>\n\n<p>We look forward to seeing you there!</p>\n\n<p><strong>RSVP today to secure your spot.</strong></p>\n
LOCATION:1750 Club Drive Vallejo\, CA 94592
UID:e.3042.501
SEQUENCE:3
DTSTAMP:20260424T003448Z
URL:https://business.napacountyhcc.com/events/details/napa-solano-hispanic-chamber-mixer-march-2025-501
END:VEVENT

END:VCALENDAR
