BEGIN:VCALENDAR
VERSION:2.0
PRODID:-//ChamberMaster//Event Calendar 2.0//EN
METHOD:PUBLISH
X-PUBLISHED-TTL:P3D
REFRESH-INTERVAL:P3D
CALSCALE:GREGORIAN
BEGIN:VEVENT
DTSTART:20230330T190000Z
DTEND:20230330T210000Z
X-MICROSOFT-CDO-ALLDAYEVENT:FALSE
SUMMARY:Napa Solano SBDC: 7 Ways to Connect with Customers on LinkedIn
DESCRIPTION:THIS WORKSHOP IS THE THIRD OF THREE IN THE SOCIAL MEDIA ZERO TO HERO SERIES\n\n\nDid you know that LinkedIn is way more than a job-hunting platform?\n\nLinkedIn has transformed over the past few years into a truly social network for all professionals to connect\, share experiences\, and truly engage like one would on Facebook. LinkedIn is your secret weapon for finding your customers and even building deeper connections with them.\n\nJoin us in this workshop on LinkedIn and unleash the power of LinkedIn by dusting off your old\, outdated\, profile and enhancing it so that when people see it they have all the correct information about your business. \n\nEven if you don't plan on using LinkedIn much\, you should still be active on it\, know how it works\, and update your information because you never know where your next customer will come from. And yes\, they do their research online before they reach out to you.\n\nTaught by SBDC Business Advisor Ed Troxell\n\nEd Troxell is a social media marketing expert and enthusiast of Facebook Live. As a former Apple Inc. employee\, Ed brings a unique skill set to the table from sales\, marketing\, strategizing systems\, and processes\, to teaching the importance of showing up on social media so that you can stand out as the industry expert online.\n\nEd is also joined by Brianna Boyd Solana-Napa's Marketing specialist and Social Media channel manager. Branna is passionate about community involvement and doing all she can to let businesses know the opportunities available to them through social media.
X-ALT-DESC;FMTTYPE=text/html:<span style="box-sizing: border-box\; font-weight: bolder\; color: rgb(3\, 32\, 64)\; font-family: proxima-nova\, &quot\;Helvetica Neue&quot\;\, Arial\, &quot\;Noto Sans&quot\;\, sans-serif\; font-size: 20px\;">THIS WORKSHOP IS THE THIRD OF THREE IN THE SOCIAL MEDIA ZERO TO HERO SERIES</span>\n<p style="box-sizing: border-box\; margin-top: 0px\; margin-bottom: 1rem\; opacity: 0.9\; text-rendering: optimizelegibility\; color: rgb(3\, 32\, 64)\; font-family: proxima-nova\, &quot\;Helvetica Neue&quot\;\, Arial\, &quot\;Noto Sans&quot\;\, sans-serif\; font-size: 20px\;"><br />\nDid you know that LinkedIn is way more than a job-hunting platform?</p>\n\n<p style="box-sizing: border-box\; margin-top: 0px\; margin-bottom: 1rem\; opacity: 0.9\; text-rendering: optimizelegibility\; color: rgb(3\, 32\, 64)\; font-family: proxima-nova\, &quot\;Helvetica Neue&quot\;\, Arial\, &quot\;Noto Sans&quot\;\, sans-serif\; font-size: 20px\;">LinkedIn has transformed over the past few years into a truly social network for all professionals to connect\, share experiences\, and truly engage like one would on Facebook. LinkedIn is your secret weapon for finding your customers and even building deeper connections with them.</p>\n\n<p style="box-sizing: border-box\; margin-top: 0px\; margin-bottom: 1rem\; opacity: 0.9\; text-rendering: optimizelegibility\; color: rgb(3\, 32\, 64)\; font-family: proxima-nova\, &quot\;Helvetica Neue&quot\;\, Arial\, &quot\;Noto Sans&quot\;\, sans-serif\; font-size: 20px\;">Join us in this workshop on LinkedIn and unleash the power of LinkedIn by dusting off your old\, outdated\, profile and enhancing it so that when people see it they have all the correct information about your business.&nbsp\;</p>\n\n<p style="box-sizing: border-box\; margin-top: 0px\; margin-bottom: 1rem\; opacity: 0.9\; text-rendering: optimizelegibility\; color: rgb(3\, 32\, 64)\; font-family: proxima-nova\, &quot\;Helvetica Neue&quot\;\, Arial\, &quot\;Noto Sans&quot\;\, sans-serif\; font-size: 20px\;">Even if you don&rsquo\;t plan on using LinkedIn much\, you should still be active on it\, know how it works\, and update your information because you never know where your next customer will come from. And yes\, they do their research online before they reach out to you.</p>\n\n<p style="box-sizing: border-box\; margin-top: 0px\; margin-bottom: 1rem\; opacity: 0.9\; text-rendering: optimizelegibility\; color: rgb(3\, 32\, 64)\; font-family: proxima-nova\, &quot\;Helvetica Neue&quot\;\, Arial\, &quot\;Noto Sans&quot\;\, sans-serif\; font-size: 20px\;"><span style="box-sizing: border-box\; font-weight: bolder\;"><em style="box-sizing: border-box\; font-family: semplicitapro !important\;">Taught by SBDC Business Advisor Ed Troxell</em></span></p>\n\n<p style="box-sizing: border-box\; margin-top: 0px\; margin-bottom: 1rem\; opacity: 0.9\; text-rendering: optimizelegibility\; color: rgb(3\, 32\, 64)\; font-family: proxima-nova\, &quot\;Helvetica Neue&quot\;\, Arial\, &quot\;Noto Sans&quot\;\, sans-serif\; font-size: 20px\;"><em style="box-sizing: border-box\; font-family: semplicitapro !important\;">Ed Troxell is a social media marketing expert and enthusiast of Facebook Live. As a former Apple Inc. employee\, Ed brings a unique skill set to the table from sales\, marketing\, strategizing systems\, and processes\, to teaching the importance of showing up on social media so that you can stand out as the industry expert online.</em></p>\n\n<p style="box-sizing: border-box\; margin-top: 0px\; margin-bottom: 1rem\; opacity: 0.9\; text-rendering: optimizelegibility\; color: rgb(3\, 32\, 64)\; font-family: proxima-nova\, &quot\;Helvetica Neue&quot\;\, Arial\, &quot\;Noto Sans&quot\;\, sans-serif\; font-size: 20px\;"><em style="box-sizing: border-box\; font-family: semplicitapro !important\;">Ed is also joined by Brianna Boyd Solana-Napa&rsquo\;s Marketing specialist and Social Media channel manager. Branna is passionate about community involvement and doing all she can to let businesses know the opportunities available to them through social media.</em></p>\n
LOCATION:Online Zoom\, Register Here: https://norcalsbdc.zoom.us/meeting/register/tJwuceyvqTgoE9w3t30qd8jpZ_vmn2ALXOUR
UID:e.3042.431
SEQUENCE:3
DTSTAMP:20260425T192134Z
URL:https://business.napacountyhcc.com/events/details/napa-solano-sbdc-7-ways-to-connect-with-customers-on-linkedin-431
END:VEVENT

END:VCALENDAR
