BEGIN:VCALENDAR
VERSION:2.0
PRODID:-//ChamberMaster//Event Calendar 2.0//EN
METHOD:PUBLISH
X-PUBLISHED-TTL:P3D
REFRESH-INTERVAL:P3D
CALSCALE:GREGORIAN
BEGIN:VEVENT
DTSTART:20230316T190000Z
DTEND:20230316T210000Z
X-MICROSOFT-CDO-ALLDAYEVENT:FALSE
SUMMARY:Napa Solano SBDC: 7 Ways to Fantastic Facebook
DESCRIPTION:THIS WORKSHOP IS THE FIRST OF THREE IN THE SOCIAL MEDIA ZERO TO HERO SERIES\n\n\n\nWould you like to use Facebook to market your small business online? Understand how Facebook works so that you can get in front of your customers before you start spending real money for someone to manage it for you.\n\nFacebook\, the world's most popular social media platform is a powerful tool for connecting with current and potential customers.\n\nWith a few simple strategies\, you can use Facebook to your advantage and get the word out about your business for free   organically\, with no paid ads. \n\nYou will walk away knowing how to better use Facebook (including your Facebook business page) and enhance your business presence on the biggest social media platform out there. \n\nTaught by SBDC Business Advisor Ed Troxell\n\nEd Troxell is a social media marketing expert and enthusiast of Facebook Live. As a former Apple Inc. employee\, Ed brings a unique skill set to the table from sales\, marketing\, strategizing systems\, and processes\, to teaching the importance of showing up on social media so that you can stand out as the industry expert online.\n\nEd is also joined by Brianna Boyd Solana-Napa's Marketing specialist and Social Media channel manager. Branna is passionate about community involvement and doing all she can to let businesses know the opportunities available to them through social media
X-ALT-DESC;FMTTYPE=text/html:<p font-size:="" font-weight:="" helvetica="" id="event-details" line-height:="" noto="" style="box-sizing: border-box\; margin-top: 0px\; margin-bottom: 1rem\;"><span style="box-sizing: border-box\; font-weight: bolder\; color: rgb(3\, 32\, 64)\; font-family: proxima-nova\, &quot\;Helvetica Neue&quot\;\, Arial\, &quot\;Noto Sans&quot\;\, sans-serif\; font-size: 20px\;">THIS WORKSHOP IS THE FIRST OF THREE IN THE SOCIAL MEDIA ZERO TO HERO SERIES</span><br />\n<br />\nWould you like to use Facebook to market your small business online? Understand how Facebook works so that you can get in front of your customers before you start spending real money for someone to manage it for you.</p>\n\n<p style="box-sizing: border-box\; margin-top: 0px\; margin-bottom: 1rem\; opacity: 0.9\; text-rendering: optimizelegibility\;">Facebook\, the world&rsquo\;s most popular social media platform is a powerful tool for connecting with current and potential customers.</p>\n\n<p style="box-sizing: border-box\; margin-top: 0px\; margin-bottom: 1rem\; opacity: 0.9\; text-rendering: optimizelegibility\;">With a few simple strategies\, you can use Facebook to your advantage and get the word out about your business for free &ndash\; organically\, with no paid ads.&nbsp\;</p>\n\n<p style="box-sizing: border-box\; margin-top: 0px\; margin-bottom: 1rem\; opacity: 0.9\; text-rendering: optimizelegibility\;">You will walk away knowing how to better use Facebook (including your Facebook business page) and enhance your business presence on the biggest social media platform out there.&nbsp\;</p>\n\n<p style="box-sizing: border-box\; margin-top: 0px\; margin-bottom: 1rem\; opacity: 0.9\; text-rendering: optimizelegibility\;"><span style="box-sizing: border-box\; font-weight: bolder\;"><em style="box-sizing: border-box\; font-family: semplicitapro !important\;">Taught by SBDC Business Advisor Ed Troxell</em></span></p>\n\n<p style="box-sizing: border-box\; margin-top: 0px\; margin-bottom: 1rem\; opacity: 0.9\; text-rendering: optimizelegibility\;"><em style="box-sizing: border-box\; font-family: semplicitapro !important\;">Ed Troxell is a social media marketing expert and enthusiast of Facebook Live. As a former Apple Inc. employee\, Ed brings a unique skill set to the table from sales\, marketing\, strategizing systems\, and processes\, to teaching the importance of showing up on social media so that you can stand out as the industry expert online.</em></p>\n\n<p style="box-sizing: border-box\; margin-top: 0px\; margin-bottom: 1rem\; opacity: 0.9\; text-rendering: optimizelegibility\;"><em style="box-sizing: border-box\; font-family: semplicitapro !important\;">Ed is also joined by Brianna Boyd Solana-Napa&rsquo\;s Marketing specialist and Social Media channel manager. Branna is passionate about community involvement and doing all she can to let businesses know the opportunities available to them through social media</em></p>\n
LOCATION:Online Registration: https://norcalsbdc.zoom.us/meeting/register/tJUpc-mvrDgsGtIXQdZx4YnRyUID5TsEab73
UID:e.3042.429
SEQUENCE:3
DTSTAMP:20260425T192146Z
URL:https://business.napacountyhcc.com/events/details/napa-solano-sbdc-7-ways-to-fantastic-facebook-429
END:VEVENT

END:VCALENDAR
