BEGIN:VCALENDAR
VERSION:2.0
PRODID:-//ChamberMaster//Event Calendar 2.0//EN
METHOD:PUBLISH
X-PUBLISHED-TTL:P3D
REFRESH-INTERVAL:P3D
CALSCALE:GREGORIAN
BEGIN:VEVENT
DTSTART:20230418T220000Z
DTEND:20230419T020000Z
X-MICROSOFT-CDO-ALLDAYEVENT:FALSE
SUMMARY:Napa Valley College Career Fair
DESCRIPTION:Whether you're looking to recruit Employees or be recruited\, this event is an opportunity for both. If you're a business that would like to have a booth\, please reserve your employer table: https://www.eventbrite.com/e/annual-career-fair-tickets-529653878007?fbclid=IwAR0KVdngIjj9zTAUfiaJWWMY-Ij3MZ2OY39YdMUKRzCR-TcIf44Gpp9muV8
X-ALT-DESC;FMTTYPE=text/html:Whether you&#39\;re looking to recruit Employees or be recruited\, this event is an opportunity for both. If you&#39\;re a business that would like to have a booth\, please reserve your employer table:&nbsp\;https://www.eventbrite.com/e/annual-career-fair-tickets-529653878007?fbclid=IwAR0KVdngIjj9zTAUfiaJWWMY-Ij3MZ2OY39YdMUKRzCR-TcIf44Gpp9muV8
LOCATION:2277 Napa Vallejo Highway Napa\, CA. 94558
UID:e.3042.428
SEQUENCE:3
DTSTAMP:20260425T190825Z
URL:https://business.napacountyhcc.com/events/details/napa-valley-college-career-fair-428
END:VEVENT

END:VCALENDAR
