BEGIN:VCALENDAR
VERSION:2.0
PRODID:-//ChamberMaster//Event Calendar 2.0//EN
METHOD:PUBLISH
X-PUBLISHED-TTL:P3D
REFRESH-INTERVAL:P3D
CALSCALE:GREGORIAN
BEGIN:VEVENT
DTSTART:20221118T013000Z
DTEND:20221118T033000Z
X-MICROSOFT-CDO-ALLDAYEVENT:FALSE
SUMMARY:November Mixer - Honrama Cellars
DESCRIPTION:Join us for our monthly mixer to meet other professionals\, our board\, and opportunities to grow your board.
X-ALT-DESC;FMTTYPE=text/html:Join us for our monthly mixer to meet other professionals\, our board\, and opportunities to grow your board.&nbsp\;
LOCATION:Honrama Cellars Tasting Room 22985 A Burndale Road\, Sonoma\, CA 95476
UID:e.3042.423
SEQUENCE:3
DTSTAMP:20260426T034616Z
URL:https://business.napacountyhcc.com/events/details/november-mixer-honrama-cellars-423
END:VEVENT

END:VCALENDAR
