BEGIN:VCALENDAR
VERSION:2.0
PRODID:-//ChamberMaster//Event Calendar 2.0//EN
METHOD:PUBLISH
X-PUBLISHED-TTL:P3D
REFRESH-INTERVAL:P3D
CALSCALE:GREGORIAN
BEGIN:VEVENT
DTSTART:20221028T003000Z
DTEND:20221028T023000Z
X-MICROSOFT-CDO-ALLDAYEVENT:FALSE
SUMMARY:October Monthly Mixer
DESCRIPTION:Join us for our monthly mixer to meet other professionals\, our board\, and opportunities to grow your board.
X-ALT-DESC;FMTTYPE=text/html:Join us for our monthly mixer to meet other professionals\, our board\, and opportunities to grow your board.&nbsp\;
LOCATION:Puertas Abiertas Community Resource Center 952 Napa Street Napa\, CA 94559 Members: $5 Non-Members: $10
UID:e.3042.422
SEQUENCE:3
DTSTAMP:20260426T004109Z
URL:https://business.napacountyhcc.com/events/details/october-monthly-mixer-422
END:VEVENT

END:VCALENDAR
