BEGIN:VCALENDAR
VERSION:2.0
PRODID:-//ChamberMaster//Event Calendar 2.0//EN
METHOD:PUBLISH
X-PUBLISHED-TTL:P3D
REFRESH-INTERVAL:P3D
CALSCALE:GREGORIAN
BEGIN:VEVENT
DTSTART:20230929T003000Z
DTEND:20230929T020000Z
X-MICROSOFT-CDO-ALLDAYEVENT:FALSE
SUMMARY:PlumpJack Winery Mixer
DESCRIPTION:Join us for an exquisite evening at Plumpjack Winery. As one of our premier partners\, Plumpjack invites you to savor their world-class wines in the heart of Napa Valley.\n\n\n\nIndulge in the finest wines\, connect with fellow business leaders\, and experience the beauty of Napa Valley. This is an opportunity to celebrate the vibrant Hispanic business community while enjoying the luxurious offerings of Plumpjack.\n\n\n\nRSVP today to secure your spot at this exclusive event. We look forward to raising a glass with you amidst the vineyards and sharing in the magic of Napa Valley.  Salud!
X-ALT-DESC;FMTTYPE=text/html:<div id="8498290F_FD41_D87B_5633_630A66161CFA">Join us for an exquisite evening at Plumpjack Winery. As one of our premier partners\, Plumpjack invites you to savor their world-class wines in the heart of Napa Valley.<br />\n<br />\nIndulge in the finest wines\, connect with fellow business leaders\, and experience the beauty of Napa Valley. This is an opportunity to celebrate the vibrant Hispanic business community while enjoying the luxurious offerings of Plumpjack.<br />\n<br />\nRSVP today to secure your spot at this exclusive event. We look forward to raising a glass with you amidst the vineyards and sharing in the magic of Napa Valley. &iexcl\;Salud!</div>\n\n<div id="8498290F_FD41_D87B_5633_630A66161CFA">&nbsp\;</div>\n
LOCATION:620 Oakville Cross Rd\, Napa CA
UID:e.3042.454
SEQUENCE:3
DTSTAMP:20260425T101556Z
URL:https://business.napacountyhcc.com/events/details/plumpjack-winery-mixer-454
END:VEVENT

END:VCALENDAR
