BEGIN:VCALENDAR
VERSION:2.0
PRODID:-//ChamberMaster//Event Calendar 2.0//EN
METHOD:PUBLISH
X-PUBLISHED-TTL:P3D
REFRESH-INTERVAL:P3D
CALSCALE:GREGORIAN
BEGIN:VEVENT
DTSTART;VALUE=DATE:20230507
DTEND;VALUE=DATE:20230508
TRANSP:TRANSPARENT
X-MICROSOFT-CDO-ALLDAYEVENT:TRUE
SUMMARY:Restaurant Care Grant Deadline
DESCRIPTION:Since 2021\, the Restaurants Care Resilience Fund has awarded grants to 788 independent restaurants throughout California. That's 788 burger joints\, taquerias\, bakeries\, and more at the heart of our communities. \n\nMany of these restaurants represent family legacies and life-long dreams. The average time in business is 9.7 years\, with nearly 80 restaurants operating for more than two decades. Check out our 2021 and 2022 grantees!\n\nIn 2023\, we will offer a spring granting cycle and a fall granting cycle. We anticipate helping an additional 366 restaurants. Grants are $5\,000 and are powered by generous donations from SoCalGas\, PG&E\, and SDG&E. Apply between April 15   May 7!\n\nRestaurants Care was created in 2017 as a safety-net for food and beverage workers\, and that hasn't stopped! Year-round we help the servers\, cooks\, and dishwashers at the heart of restaurants.  To learn more about our fund for food and beverage workers click here.\n\n \nRestaurants can use the grant funds for:\n\n\n	kitchen equipment\n	technology upgrades\n	employee training and bonuses\n	unforeseen hardships
X-ALT-DESC;FMTTYPE=text/html:<p style="box-sizing: border-box\; margin: 0px\; padding: 0px 0px 1em\; border: 0px\; outline: 0px\; font-size: 14px\; text-size-adjust: 100%\; vertical-align: baseline\; background-image: initial\; background-position: initial\; background-size: initial\; background-repeat: initial\; background-attachment: initial\; background-origin: initial\; background-clip: initial\; color: rgb(74\, 69\, 72)\; font-family: Montserrat\, Helvetica\, Arial\, Lucida\, sans-serif\;"><span style="font-size:14px\;"><span style="font-family:arial\;">Since 2021\, the Restaurants Care Resilience Fund has awarded grants to 788 independent restaurants throughout California. That&rsquo\;s 788 burger joints\, taquerias\, bakeries\, and more at the heart of our communities.&nbsp\;</span></span><o:p style="box-sizing: border-box\;"></o:p></p>\n\n<p style="box-sizing: border-box\; margin: 0px\; padding: 0px 0px 1em\; border: 0px\; outline: 0px\; font-size: 14px\; text-size-adjust: 100%\; vertical-align: baseline\; background-image: initial\; background-position: initial\; background-size: initial\; background-repeat: initial\; background-attachment: initial\; background-origin: initial\; background-clip: initial\; color: rgb(74\, 69\, 72)\; font-family: Montserrat\, Helvetica\, Arial\, Lucida\, sans-serif\;"><span style="font-size:14px\;"><span style="font-family:arial\;">Many of these restaurants represent family legacies and life-long dreams. The average time in business is 9.7 years\, with nearly 80 restaurants operating for more than two decades. Check out our&nbsp\;<a data-feathr-click-track="true" data-feathr-link-aids="[&quot\;5d8ba228f555354cca9ebdb9&quot\;]" href="https://docs.google.com/spreadsheets/d/1GI3KHOal7h6dM4SPinLe68CHJTo-kZ_FavEYPTWgCss/edit?usp=sharing" style="box-sizing: border-box\; text-decoration-line: none\; margin: 0px\; padding: 0px\; border: 0px\; outline: 0px\; text-size-adjust: 100%\; vertical-align: baseline\; background: transparent\; color: rgb(22\, 109\, 144)\; font-weight: bold\;">2021</a>&nbsp\;and&nbsp\;<a data-feathr-click-track="true" data-feathr-link-aids="[&quot\;5d8ba228f555354cca9ebdb9&quot\;]" href="https://docs.google.com/spreadsheets/d/161xybTQZAsg_FZ79Ihp4RqFoLneyMYe6t1cIAA1dCQs/edit#gid=0" style="box-sizing: border-box\; text-decoration-line: none\; margin: 0px\; padding: 0px\; border: 0px\; outline: 0px\; text-size-adjust: 100%\; vertical-align: baseline\; background: transparent\; color: rgb(22\, 109\, 144)\; font-weight: bold\;">2022</a>&nbsp\;grantees!</span></span><o:p style="box-sizing: border-box\;"></o:p></p>\n\n<p style="box-sizing: border-box\; margin: 0px\; padding: 0px 0px 1em\; border: 0px\; outline: 0px\; font-size: 14px\; text-size-adjust: 100%\; vertical-align: baseline\; background-image: initial\; background-position: initial\; background-size: initial\; background-repeat: initial\; background-attachment: initial\; background-origin: initial\; background-clip: initial\; color: rgb(74\, 69\, 72)\; font-family: Montserrat\, Helvetica\, Arial\, Lucida\, sans-serif\;"><span style="font-size:14px\;"><span style="font-family:arial\;">In 2023\, we will offer a spring granting cycle and a fall granting cycle.&nbsp\;<span style="box-sizing: border-box\; margin: 0px\; padding: 0px\; border: 0px\; outline: 0px\; text-size-adjust: 100%\; vertical-align: baseline\; background: transparent\; font-weight: 700\;">We anticipate helping an additional 366 restaurants.</span>&nbsp\;Grants are $5\,000 and are powered by generous donations from SoCalGas\, PG&amp\;E\, and SDG&amp\;E. Apply between April 15 &ndash\; May 7!</span></span></p>\n\n<p style="box-sizing: border-box\; margin: 0px\; padding: 0px\; border: 0px\; outline: 0px\; font-size: 14px\; text-size-adjust: 100%\; vertical-align: baseline\; background-image: initial\; background-position: initial\; background-size: initial\; background-repeat: initial\; background-attachment: initial\; background-origin: initial\; background-clip: initial\; color: rgb(74\, 69\, 72)\; font-family: Montserrat\, Helvetica\, Arial\, Lucida\, sans-serif\;"><span style="font-size:14px\;"><span style="font-family:arial\;">Restaurants Care was created in 2017 as a safety-net for food and beverage workers\, and that hasn&rsquo\;t stopped! Year-round we help the servers\, cooks\, and dishwashers at the heart of restaurants.&nbsp\; To learn more about our fund for food and beverage workers&nbsp\;<a data-feathr-click-track="true" data-feathr-link-aids="[&quot\;5d8ba228f555354cca9ebdb9&quot\;]" href="https://restaurantscare.org/" style="box-sizing: border-box\; text-decoration-line: none\; margin: 0px\; padding: 0px\; border: 0px\; outline: 0px\; text-size-adjust: 100%\; vertical-align: baseline\; background: transparent\; color: rgb(22\, 109\, 144)\; font-weight: bold\;">click here</a>.</span></span><br />\n&nbsp\;</p>\n<span style="font-size:14px\;"><span style="font-family:arial\;">Restaurants can use the grant funds for:</span></span>\n\n<ul>\n	<li><span style="font-size:14px\;"><span style="font-family:arial\;">kitchen equipment</span></span></li>\n	<li><span style="font-size:14px\;"><span style="font-family:arial\;">technology upgrades</span></span></li>\n	<li><span style="font-size:14px\;"><span style="font-family:arial\;">employee training and bonuses</span></span></li>\n	<li><span style="font-size:14px\;"><span style="font-family:arial\;">unforeseen hardships</span></span></li>\n</ul>\n
LOCATION:Watch Video: https://youtu.be/Q3jl-vM2Ahk.be To apply: https://restaurantscare.org/resilience/ Download flyer: https://restaurantscare.org/wp-content/uploads/2023/04/Resilience-Fund-2023-Spring-Flyer.pdf
UID:e.3042.442
SEQUENCE:3
DTSTAMP:20260425T154512Z
URL:https://business.napacountyhcc.com/events/details/restaurant-care-grant-deadline-442
END:VEVENT

END:VCALENDAR
