BEGIN:VCALENDAR
VERSION:2.0
PRODID:-//ChamberMaster//Event Calendar 2.0//EN
METHOD:PUBLISH
X-PUBLISHED-TTL:P3D
REFRESH-INTERVAL:P3D
CALSCALE:GREGORIAN
BEGIN:VEVENT
DTSTART:20230502T190000Z
DTEND:20230502T203000Z
X-MICROSOFT-CDO-ALLDAYEVENT:FALSE
SUMMARY:SBDC: Artificial Intelligence for Small Business Part 2 of 2
DESCRIPTION:Event Details\n\nAI for Small Biz is a two-part series over two days: May 1 and May 2\, each 12-1:30pm. You only need to register once for both sessions.\n\nPart 1 (May 1): Intro to AI for Small Business\n\nPart 2 (May 2): Chat-GPT for Small Business: How to Use/Demo\n\nAre you curious (or confused??) about how artificial intelligence (AI) can help your small business? Join us for this special 'Small Business Week' 2-part training covering AI for Small Business.  \n\nThis Part 2 session explores:\n\n\n	Specific examples using Chat-GPT\n	Prompt engineering to improve results\n	Hands-on walking people through searches related to participants' businesses
X-ALT-DESC;FMTTYPE=text/html:<h2 id="event-details" style="box-sizing: border-box\; margin-top: 0px\; margin-bottom: 1rem\; font-family: semplicitapro\, proxima-nova\, &quot\;Helvetica Neue&quot\;\, Arial\, &quot\;Noto Sans&quot\;\, sans-serif\; font-weight: 700\; line-height: 1.125\; font-size: 2.5rem\;">Event Details</h2>\n\n<p style="box-sizing: border-box\; margin-top: 0px\; margin-bottom: 1rem\; opacity: 0.9\; text-rendering: optimizelegibility\;"><span style="box-sizing: border-box\; font-weight: bolder\;">AI for Small Biz is a two-part series over two days: May 1 and May 2\, each 12-1:30pm</span>.&nbsp\;<span style="box-sizing: border-box\; font-weight: bolder\;">You only need to register once for both sessions.</span></p>\n\n<p style="box-sizing: border-box\; margin-top: 0px\; margin-bottom: 1rem\; opacity: 0.9\; text-rendering: optimizelegibility\;">Part 1 (May 1):&nbsp\;<span style="box-sizing: border-box\; font-weight: bolder\;">Intro to AI for Small Business</span></p>\n\n<p style="box-sizing: border-box\; margin-top: 0px\; margin-bottom: 1rem\; opacity: 0.9\; text-rendering: optimizelegibility\;">Part 2 (May 2):&nbsp\;<span style="box-sizing: border-box\; font-weight: bolder\;">Chat-GPT for Small Business: How to Use/Demo</span></p>\n\n<p style="box-sizing: border-box\; margin-top: 0px\; margin-bottom: 1rem\; opacity: 0.9\; text-rendering: optimizelegibility\;">Are you curious (or confused??) about how artificial intelligence (AI) can help your small business? Join us for this special &lsquo\;Small Business Week&rsquo\; 2-part training covering AI for Small Business. &nbsp\;</p>\n\n<p style="box-sizing: border-box\; margin-top: 0px\; margin-bottom: 1rem\; opacity: 0.9\; text-rendering: optimizelegibility\;">This Part 2 session explores:</p>\n\n<ul style="box-sizing: border-box\; margin-bottom: 1rem\; margin-top: 0px\;">\n	<li style="box-sizing: border-box\;">Specific examples using Chat-GPT</li>\n	<li style="box-sizing: border-box\;">Prompt engineering to improve results</li>\n	<li style="box-sizing: border-box\;">Hands-on walking people through searches related to participants&rsquo\; businesses</li>\n</ul>\n\n<div class="wp-block-crown-blocks-expandable-content  toggle-align-left" style="box-sizing: border-box\; margin-bottom: 1rem\;">\n<div class="inner" style="box-sizing: border-box\;">\n<div class="expandable-content-toggle" style="box-sizing: border-box\; color: rgb(3\, 32\, 64)\; font-family: proxima-nova\, &quot\;Helvetica Neue&quot\;\, Arial\, &quot\;Noto Sans&quot\;\, sans-serif\; font-size: 20px\;">&nbsp\;</div>\n\n<div><button class="btn btn-link btn-md" style="border-radius: 0px\; margin: 0px\; font-family: proxima-nova\, &quot\;Helvetica Neue&quot\;\, Arial\, &quot\;Noto Sans&quot\;\, sans-serif\; font-size: 1rem\; line-height: 1.2\; overflow: visible\; appearance: button\; font-weight: 700\; color: rgb(3\, 129\, 195)\; vertical-align: middle\; user-select: none\; border-width: 0px 0px 3px\; border-style: solid\; border-color: transparent\; padding: 0px 0px 0.3em\; transition: color 0.15s ease-in-out 0s\, background-color 0.15s ease-in-out 0s\, border-color 0.15s ease-in-out 0s\, box-shadow 0.15s ease-in-out 0s\; letter-spacing: 0.05em\; outline: none\; cursor: pointer\;" type="button"><br />\n</button></div>\n\n<div class="expandable-content-contents" style="box-sizing: border-box\; height: 0px\; overflow: hidden\; transition: height 0.5s ease-out 0s\; color: rgb(3\, 32\, 64)\; font-family: proxima-nova\, &quot\;Helvetica Neue&quot\;\, Arial\, &quot\;Noto Sans&quot\;\, sans-serif\; font-size: 20px\;">\n<div class="inner" style="box-sizing: border-box\;">&nbsp\;</div>\n</div>\n</div>\n</div>\n
LOCATION:This is a FREE online event.
UID:e.3042.445
SEQUENCE:3
DTSTAMP:20260425T153841Z
URL:https://business.napacountyhcc.com/events/details/sbdc-artificial-intelligence-for-small-business-part-2-of-2-445
END:VEVENT

END:VCALENDAR
