BEGIN:VCALENDAR
VERSION:2.0
PRODID:-//ChamberMaster//Event Calendar 2.0//EN
METHOD:PUBLISH
X-PUBLISHED-TTL:P3D
REFRESH-INTERVAL:P3D
CALSCALE:GREGORIAN
BEGIN:VEVENT
DTSTART:20230510T190000Z
DTEND:20230510T203000Z
X-MICROSOFT-CDO-ALLDAYEVENT:FALSE
SUMMARY:SBDC: Getting the YES - Communicating for Better Sales (part 1 of 2)
DESCRIPTION:Event Details\n\nIf you don't like sales or think you are terrible at sales\, take this workshop.  Many entrepreneurs get a knot in their stomachs when they think about sales.  It's not your fault\, sales have gotten a bad reputation.  You may have even been "sold" to in the past in a way that feels uncomfortable.  You think that's the way to do it.  It's not!\n\nJoin business advisor\, Laurie Zerga for a new approach to sales.  She will teach an alternative to the stereo-typed method to sales. \n\nYou will learn to build a sales system that meets your personal style.  When you find your authentic approach\, you will build relationships and your ideal client will be attracted to your unique products and services.  During the workshop\, you will:\n\n\n	Learn how to find customers   it's NOT hunting\n	Develop a step-by-step approach to get people to act\n	Identify 3 techniques to communicate your product or services\n	Learn to get the Yes and build/expand your customer base\n\n\nTaught by Laurie Zerga. Laurie has advised companies to grow using marketing and sales strategies.  She's uncovered simple techniques to double sales in as little as three to six months.  \n\nShes works with small solo-entrepreneurs to privately owned companies with 8-figure sales.  She leverages 20 years of corporate background and experience growing her own company\, Chef-K Inc. to an international presence.
X-ALT-DESC;FMTTYPE=text/html:<h2 id="event-details" style="box-sizing: border-box\; margin-top: 0px\; margin-bottom: 1rem\; font-family: semplicitapro\, proxima-nova\, &quot\;Helvetica Neue&quot\;\, Arial\, &quot\;Noto Sans&quot\;\, sans-serif\; font-weight: 700\; line-height: 1.125\; font-size: 2.5rem\; color: rgb(3\, 32\, 64)\;">Event Details</h2>\n\n<p style="box-sizing: border-box\; margin-top: 0px\; margin-bottom: 1rem\; opacity: 0.9\; text-rendering: optimizelegibility\; color: rgb(3\, 32\, 64)\; font-family: proxima-nova\, &quot\;Helvetica Neue&quot\;\, Arial\, &quot\;Noto Sans&quot\;\, sans-serif\; font-size: 20px\;">If you don&rsquo\;t like sales or think you are terrible at sales\, take this workshop.&nbsp\; Many entrepreneurs get a knot in their stomachs when they think about sales.&nbsp\; It&rsquo\;s not your fault\, sales have gotten a bad reputation.&nbsp\; You may have even been &ldquo\;sold&rdquo\; to in the past in a way that feels uncomfortable.&nbsp\; You think that&rsquo\;s the way to do it.&nbsp\; It&rsquo\;s not!</p>\n\n<p style="box-sizing: border-box\; margin-top: 0px\; margin-bottom: 1rem\; opacity: 0.9\; text-rendering: optimizelegibility\; color: rgb(3\, 32\, 64)\; font-family: proxima-nova\, &quot\;Helvetica Neue&quot\;\, Arial\, &quot\;Noto Sans&quot\;\, sans-serif\; font-size: 20px\;">Join business advisor\, Laurie Zerga for a new approach to sales.&nbsp\; She will teach an alternative to the stereo-typed method to sales.&nbsp\;</p>\n\n<p style="box-sizing: border-box\; margin-top: 0px\; margin-bottom: 1rem\; opacity: 0.9\; text-rendering: optimizelegibility\; color: rgb(3\, 32\, 64)\; font-family: proxima-nova\, &quot\;Helvetica Neue&quot\;\, Arial\, &quot\;Noto Sans&quot\;\, sans-serif\; font-size: 20px\;">You will learn to build a sales system that meets your personal style.&nbsp\; When you find your authentic approach\, you will build relationships and your ideal client will be attracted to your unique products and services.&nbsp\; During the workshop\, you will:</p>\n\n<ul style="box-sizing: border-box\; margin-bottom: 1rem\; margin-top: 0px\; color: rgb(3\, 32\, 64)\; font-family: proxima-nova\, &quot\;Helvetica Neue&quot\;\, Arial\, &quot\;Noto Sans&quot\;\, sans-serif\; font-size: 20px\;">\n	<li style="box-sizing: border-box\;">Learn how to find customers &ndash\; it&rsquo\;s NOT hunting</li>\n	<li style="box-sizing: border-box\;">Develop a step-by-step approach to get people to act</li>\n	<li style="box-sizing: border-box\;">Identify 3 techniques to communicate your product or services</li>\n	<li style="box-sizing: border-box\;">Learn to get the Yes and build/expand your customer base</li>\n</ul>\n\n<p style="box-sizing: border-box\; margin-top: 0px\; margin-bottom: 1rem\; opacity: 0.9\; text-rendering: optimizelegibility\; color: rgb(3\, 32\, 64)\; font-family: proxima-nova\, &quot\;Helvetica Neue&quot\;\, Arial\, &quot\;Noto Sans&quot\;\, sans-serif\; font-size: 20px\;"><em style="box-sizing: border-box\; font-family: semplicitapro !important\;">Taught by&nbsp\;</em><span style="box-sizing: border-box\; font-weight: bolder\;"><em style="box-sizing: border-box\; font-family: semplicitapro !important\;">Laurie Zerga</em></span><em style="box-sizing: border-box\; font-family: semplicitapro !important\;">. Laurie has advised companies to grow using marketing and sales strategies.&nbsp\; She&rsquo\;s uncovered simple techniques to double sales in as little as three to six months.&nbsp\;&nbsp\;</em></p>\n\n<p style="box-sizing: border-box\; margin-top: 0px\; margin-bottom: 1rem\; opacity: 0.9\; text-rendering: optimizelegibility\; color: rgb(3\, 32\, 64)\; font-family: proxima-nova\, &quot\;Helvetica Neue&quot\;\, Arial\, &quot\;Noto Sans&quot\;\, sans-serif\; font-size: 20px\;"><em style="box-sizing: border-box\; font-family: semplicitapro !important\;">Shes works with small solo-entrepreneurs to privately owned companies with 8-figure sales.&nbsp\; She leverages 20 years of corporate background and experience growing her own company\, Chef-K Inc. to an international presence.</em></p>\n
LOCATION:THIS IS A 2-PART ONLINE WORKSHOP: 5/10 & 5/17\, 12-1:30pm
UID:e.3042.447
SEQUENCE:3
DTSTAMP:20260425T154823Z
URL:https://business.napacountyhcc.com/events/details/sbdc-getting-the-yes-communicating-for-better-sales-part-1-of-2-447
END:VEVENT

END:VCALENDAR
