BEGIN:VCALENDAR
VERSION:2.0
PRODID:-//ChamberMaster//Event Calendar 2.0//EN
METHOD:PUBLISH
X-PUBLISHED-TTL:P3D
REFRESH-INTERVAL:P3D
CALSCALE:GREGORIAN
BEGIN:VEVENT
DTSTART:20230503T190000Z
DTEND:20230503T210000Z
X-MICROSOFT-CDO-ALLDAYEVENT:FALSE
SUMMARY:SBDC: How to improve your PR - it's all about connections
DESCRIPTION:Event Details\n\n \n\nAs a small business owner\, you may not think you're in the business of public relations   but you are! \n\nPublic relations is crucial to the success of every business\, big and small. Small budget-conscious businesses do not have the luxury of hiring their own PR firm and have to take on a more DIY approach. \n\nFortunately\, thanks to the expanding and evolving media and Internet\, there are now many avenues for businesses managing and building their PR efforts. It is actually a lot easier than you may think! \n\nIn fact\, if you already utilize social media for your business or you represent your company in community organizations and events\, you are already doing your own public relations. In this webinar\, we'll explore free PR opportunities available to small businesses and how you can best utilize them.\n\nKey topics covered in this workshop include: \n\n\n	The importance of seeing yourself as an 'expert' in your field\n	Becoming a storyteller\n	Getting involved and building your network in the community\n	Creating your own 'Press Kit'\n	Creating and submitting press releases\n\n\n\nThis interactive workshop is roughly 1.5 hours long\, followed by a question and answer period to help address YOUR specific needs. So have your questions ready and enjoy some expert one-on-one time!\n\nTHIS WORKSHOP IS THE FIRST IN THE MORE THAN MARKETING SERIES\n\n \n\n\nTaught by Brianna Boyd. Brianna is the marketing specialist for the Solano-Napa SBDC and oversees the center's social media channels and website content\, writes and distributes press releases\, networks and communicates with community partners and stakeholders\, and leads webinars on social media and marketing for businesses.\n\nShe has a background in journalism and was a newspaper editor/reporter for 10 years before going into communications and marketing.
X-ALT-DESC;FMTTYPE=text/html:<h2 id="event-details" style="box-sizing: border-box\; margin-top: 0px\; margin-bottom: 1rem\; font-family: semplicitapro\, proxima-nova\, &quot\;Helvetica Neue&quot\;\, Arial\, &quot\;Noto Sans&quot\;\, sans-serif\; font-weight: 700\; line-height: 1.125\; font-size: 2.5rem\; color: rgb(3\, 32\, 64)\;">Event Details</h2>\n\n<p style="box-sizing: border-box\; margin-top: 0px\; margin-bottom: 1rem\; opacity: 0.9\; text-rendering: optimizelegibility\; color: rgb(3\, 32\, 64)\; font-family: proxima-nova\, &quot\;Helvetica Neue&quot\;\, Arial\, &quot\;Noto Sans&quot\;\, sans-serif\; font-size: 20px\;">&nbsp\;</p>\n\n<p style="box-sizing: border-box\; margin-top: 0px\; margin-bottom: 1rem\; opacity: 0.9\; text-rendering: optimizelegibility\; color: rgb(3\, 32\, 64)\; font-family: proxima-nova\, &quot\;Helvetica Neue&quot\;\, Arial\, &quot\;Noto Sans&quot\;\, sans-serif\; font-size: 20px\;">As&nbsp\;a small business owner\, you may not think you&rsquo\;re in the business of public relations &ndash\; but you are!&nbsp\;</p>\n\n<p style="box-sizing: border-box\; margin-top: 0px\; margin-bottom: 1rem\; opacity: 0.9\; text-rendering: optimizelegibility\; color: rgb(3\, 32\, 64)\; font-family: proxima-nova\, &quot\;Helvetica Neue&quot\;\, Arial\, &quot\;Noto Sans&quot\;\, sans-serif\; font-size: 20px\;">Public relations is crucial to the success of every business\, big and small. Small budget-conscious businesses do not have the luxury of hiring their own PR firm and have to take on a more DIY approach.&nbsp\;</p>\n\n<p style="box-sizing: border-box\; margin-top: 0px\; margin-bottom: 1rem\; opacity: 0.9\; text-rendering: optimizelegibility\; color: rgb(3\, 32\, 64)\; font-family: proxima-nova\, &quot\;Helvetica Neue&quot\;\, Arial\, &quot\;Noto Sans&quot\;\, sans-serif\; font-size: 20px\;">Fortunately\, thanks to the expanding and evolving media and Internet\, there are now many avenues for businesses managing and building their PR efforts. It is actually a lot easier than you may think!&nbsp\;</p>\n\n<p style="box-sizing: border-box\; margin-top: 0px\; margin-bottom: 1rem\; opacity: 0.9\; text-rendering: optimizelegibility\; color: rgb(3\, 32\, 64)\; font-family: proxima-nova\, &quot\;Helvetica Neue&quot\;\, Arial\, &quot\;Noto Sans&quot\;\, sans-serif\; font-size: 20px\;">In fact\, if you already utilize social media for your business or you represent your company in community organizations and events\, you are already doing your own public relations. In this webinar\, we&rsquo\;ll explore free PR opportunities available to small businesses and how you can best utilize them.</p>\n\n<p style="box-sizing: border-box\; margin-top: 0px\; margin-bottom: 1rem\; opacity: 0.9\; text-rendering: optimizelegibility\; color: rgb(3\, 32\, 64)\; font-family: proxima-nova\, &quot\;Helvetica Neue&quot\;\, Arial\, &quot\;Noto Sans&quot\;\, sans-serif\; font-size: 20px\;">Key topics covered in this workshop include:&nbsp\;</p>\n\n<ul style="box-sizing: border-box\; margin-bottom: 1rem\; margin-top: 0px\; color: rgb(3\, 32\, 64)\; font-family: proxima-nova\, &quot\;Helvetica Neue&quot\;\, Arial\, &quot\;Noto Sans&quot\;\, sans-serif\; font-size: 20px\;">\n	<li style="box-sizing: border-box\;">The importance of seeing yourself as an &lsquo\;expert&rsquo\; in your field</li>\n	<li style="box-sizing: border-box\;">Becoming a storyteller</li>\n	<li style="box-sizing: border-box\;">Getting involved and building your network in the community</li>\n	<li style="box-sizing: border-box\;">Creating your own &lsquo\;Press Kit&rsquo\;</li>\n	<li style="box-sizing: border-box\;">Creating and submitting press releases</li>\n</ul>\n\n<div style="box-sizing: border-box\;">\n<p style="box-sizing: border-box\; margin-top: 0px\; margin-bottom: 1rem\; opacity: 0.9\; text-rendering: optimizelegibility\; color: rgb(3\, 32\, 64)\; font-family: proxima-nova\, &quot\;Helvetica Neue&quot\;\, Arial\, &quot\;Noto Sans&quot\;\, sans-serif\; font-size: 20px\;"><span style="box-sizing: border-box\; font-weight: bolder\;">This interactive workshop is roughly 1.5 hours long\, followed by a question and answer period to help address YOUR specific needs. So have your questions ready and enjoy some expert one-on-one time!</span></p>\n\n<p style="box-sizing: border-box\; margin-top: 0px\; margin-bottom: 0px\; opacity: 0.9\; text-rendering: optimizelegibility\; color: rgb(3\, 32\, 64)\; font-family: proxima-nova\, &quot\;Helvetica Neue&quot\;\, Arial\, &quot\;Noto Sans&quot\;\, sans-serif\; font-size: 20px\;"><span style="box-sizing: border-box\; font-weight: bolder\;">THIS WORKSHOP IS THE FIRST IN THE MORE THAN MARKETING SERIES</span><br />\n&nbsp\;</p>\n</div>\n\n<p style="box-sizing: border-box\; margin-top: 0px\; margin-bottom: 1rem\; opacity: 0.9\; text-rendering: optimizelegibility\; color: rgb(3\, 32\, 64)\; font-family: proxima-nova\, &quot\;Helvetica Neue&quot\;\, Arial\, &quot\;Noto Sans&quot\;\, sans-serif\; font-size: 20px\;"><em style="box-sizing: border-box\; font-family: semplicitapro !important\;">Taught by Brianna Boyd. Brianna is the marketing specialist for the Solano-Napa SBDC and oversees the center&rsquo\;s social media channels and website content\, writes and distributes press releases\, networks and communicates with community partners and stakeholders\, and leads webinars on social media and marketing for businesses.</em></p>\n\n<p style="box-sizing: border-box\; margin-top: 0px\; margin-bottom: 1rem\; opacity: 0.9\; text-rendering: optimizelegibility\; color: rgb(3\, 32\, 64)\; font-family: proxima-nova\, &quot\;Helvetica Neue&quot\;\, Arial\, &quot\;Noto Sans&quot\;\, sans-serif\; font-size: 20px\;"><em style="box-sizing: border-box\; font-family: semplicitapro !important\;">She has a background in journalism and was a newspaper editor/reporter for 10 years before going into communications and marketing.</em></p>\n
LOCATION:This is a 2-hour online event
UID:e.3042.446
SEQUENCE:3
DTSTAMP:20260425T154737Z
URL:https://business.napacountyhcc.com/events/details/sbdc-how-to-improve-your-pr-it-s-all-about-connections-446
END:VEVENT

END:VCALENDAR
