BEGIN:VCALENDAR
VERSION:2.0
PRODID:-//ChamberMaster//Event Calendar 2.0//EN
METHOD:PUBLISH
X-PUBLISHED-TTL:P3D
REFRESH-INTERVAL:P3D
CALSCALE:GREGORIAN
BEGIN:VEVENT
DTSTART:20230518T170000Z
DTEND:20230518T190000Z
X-MICROSOFT-CDO-ALLDAYEVENT:FALSE
SUMMARY:SBDC QuickBooks Series: Accounts Payable\, Banking Reconciliations\, and Reports
DESCRIPTION:Ready to take control of your business's finances?\n\n\n\nManaging your finances is critical to the success of any business. Our QuickBooks Series will teach you how to master the leading accounting software for small businesses and effectively manage your business's finances.\n\n\n\nThis webinar will cover: Accounts Payable and Banking Reconciliations\, entering expenses and bills\, paying bills\, managing reports\, Profit & Loss sheet\, and Balance Sheet - and more!
X-ALT-DESC;FMTTYPE=text/html:<p dir="ltr" style="line-height:1.38\;margin-top:0pt\;margin-bottom:0pt\;"><span style="font-size:18px\;"><strong><span id="docs-internal-guid-5cc585b2-7fff-e3c9-ed91-1e19f5624f11"><span style="font-family: Arial\; color: rgb(0\, 0\, 0)\; background-color: transparent\; font-variant-numeric: normal\; font-variant-east-asian: normal\; font-variant-alternates: normal\; vertical-align: baseline\; white-space: pre-wrap\;">Ready to take control of your business&#39\;s finances?</span></span></strong></span></p>\n\n<p dir="ltr" style="line-height:1.38\;margin-top:0pt\;margin-bottom:0pt\;"><br />\n<span id="docs-internal-guid-5cc585b2-7fff-e3c9-ed91-1e19f5624f11"><span style="font-size: 11pt\; font-family: Arial\; color: rgb(0\, 0\, 0)\; background-color: transparent\; font-variant-numeric: normal\; font-variant-east-asian: normal\; font-variant-alternates: normal\; vertical-align: baseline\; white-space: pre-wrap\;">Managing your finances is critical to the success of any business. Our QuickBooks Series will teach you how to master the leading accounting software for small businesses and effectively manage your business&#39\;s finances.</span></span></p>\n\n<div><br />\n<span style="color: rgb(0\, 0\, 0)\; font-family: Arial\; font-size: 14.6667px\; white-space: pre-wrap\;">This webinar will cover: Accounts Payable and Banking Reconciliations\, entering expenses and bills\, paying bills\, managing reports\, Profit &amp\; Loss sheet\, and Balance Sheet - and more!</span></div>\n
LOCATION:Online Event - Learn more & register here
UID:e.3042.438
SEQUENCE:3
DTSTAMP:20260425T154738Z
URL:https://business.napacountyhcc.com/events/details/sbdc-quickbooks-series-accounts-payable-banking-reconciliations-and-reports-438
END:VEVENT

END:VCALENDAR
