BEGIN:VCALENDAR
VERSION:2.0
PRODID:-//ChamberMaster//Event Calendar 2.0//EN
METHOD:PUBLISH
X-PUBLISHED-TTL:P3D
REFRESH-INTERVAL:P3D
CALSCALE:GREGORIAN
BEGIN:VEVENT
DTSTART:20250919T003000Z
DTEND:20250919T020000Z
X-MICROSOFT-CDO-ALLDAYEVENT:FALSE
SUMMARY:September Mixer @Copia
DESCRIPTION:Join the Hispanic Chamber of Commerce for a special evening mixer at CIA at Copia in downtown Napa. Enjoy exquisite small bites prepared by world-class chefs\, local wine tastings\, and the perfect atmosphere for networking with community leaders\, professionals\, and entrepreneurs. This event blends culture\, connection\, and culinary excellence an experience you won't want to miss!
X-ALT-DESC;FMTTYPE=text/html:Join the Hispanic Chamber of Commerce for a special evening mixer at <strong data-end="85" data-start="69">CIA at Copia</strong> in downtown Napa. Enjoy exquisite small bites prepared by world-class chefs\, local wine tastings\, and the perfect atmosphere for networking with community leaders\, professionals\, and entrepreneurs. This event blends culture\, connection\, and culinary excellence&mdash\;an experience you won&rsquo\;t want to miss!
LOCATION:
UID:e.3042.512
SEQUENCE:3
DTSTAMP:20260423T135352Z
URL:https://business.napacountyhcc.com/events/details/september-mixer-copia-512
END:VEVENT

END:VCALENDAR
