BEGIN:VCALENDAR
VERSION:2.0
PRODID:-//ChamberMaster//Event Calendar 2.0//EN
METHOD:PUBLISH
X-PUBLISHED-TTL:P3D
REFRESH-INTERVAL:P3D
CALSCALE:GREGORIAN
BEGIN:VEVENT
DTSTART:20230901T003000Z
DTEND:20230901T020000Z
X-MICROSOFT-CDO-ALLDAYEVENT:FALSE
SUMMARY:Wine Down Media Mixer Event
DESCRIPTION:This month\, we will have an amazing mixer event at our very own local radio station! 99.3 Fm The Vine and 96.9 Mega Mix.\n\nCome on down and enjoy some amazing food\, wine and meet some amazing business owners\, community members and government officials.\n\n\n\nFind out how the Napa Hispanic Chamber of Commerce can help you with your business needs. Let us know about your business while you meet\, and most of all\, support the small business community in our lovely Napa Valley. \n\n\n\nBe one of the first five attendees that brings a raffle prize\, and join us at the next mixer for FREE! And of course\, all will have a chance at winning a raffle prize\, too.\n\n\n\nNetworking. Business Opportunities. Support Local Businesses.
X-ALT-DESC;FMTTYPE=text/html:<p style="box-sizing: border-box\; margin: 0px 0px 1rem\; padding: 0px\; border: 0px rgb(248\, 248\, 248)\; font-stretch: inherit\; font-size: 18px\; line-height: inherit\; font-family: &quot\;Maven Pro&quot\;\, HelveticaNeue\, &quot\;Helvetica Neue&quot\;\, Helvetica\, Arial\, sans-serif\; font-kerning: inherit\; font-variant-alternates: inherit\; font-variant-ligatures: inherit\; font-variant-numeric: inherit\; font-variant-east-asian: inherit\; font-feature-settings: inherit\; font-optical-sizing: inherit\; font-variation-settings: inherit\; vertical-align: baseline\; caret-color: rgb(93\, 84\, 73)\; color: rgb(93\, 84\, 73)\; -webkit-tap-highlight-color: rgba(26\, 26\, 26\, 0.3)\; text-size-adjust: 100%\;">This month\, we will have an amazing mixer event&nbsp\;at our very own local radio station! 99.3 Fm The Vine and 96.9 Mega Mix.</p>\n\n<p style="box-sizing: border-box\; margin: 0px 0px 1rem\; padding: 0px\; border: 0px rgb(248\, 248\, 248)\; font-stretch: inherit\; font-size: 18px\; line-height: inherit\; font-family: &quot\;Maven Pro&quot\;\, HelveticaNeue\, &quot\;Helvetica Neue&quot\;\, Helvetica\, Arial\, sans-serif\; font-kerning: inherit\; font-variant-alternates: inherit\; font-variant-ligatures: inherit\; font-variant-numeric: inherit\; font-variant-east-asian: inherit\; font-feature-settings: inherit\; font-optical-sizing: inherit\; font-variation-settings: inherit\; vertical-align: baseline\; outline: 0px\; caret-color: rgb(93\, 84\, 73)\; color: rgb(93\, 84\, 73)\; -webkit-tap-highlight-color: rgba(26\, 26\, 26\, 0.3)\; text-size-adjust: 100%\;">Come on down and&nbsp\;<span style="box-sizing: border-box\; margin: 0px\; padding: 0px\; border: 0px rgb(248\, 248\, 248)\; font-style: inherit\; font-variant-caps: inherit\; font-weight: inherit\; font-stretch: inherit\; font-size: inherit\; line-height: inherit\; font-family: inherit\; font-size-adjust: inherit\; font-kerning: inherit\; font-variant-alternates: inherit\; font-variant-ligatures: inherit\; font-variant-numeric: inherit\; font-variant-east-asian: inherit\; font-variant-position: inherit\; font-feature-settings: inherit\; font-optical-sizing: inherit\; font-variation-settings: inherit\; vertical-align: baseline\;">enjoy some amazing food\, wine and meet some amazing business owners\, community members and government officials.</span><br style="box-sizing: border-box\;" />\n<br style="box-sizing: border-box\;" />\n<span style="box-sizing: border-box\; margin: 0px\; padding: 0px\; border: 0px rgb(248\, 248\, 248)\; font-style: inherit\; font-variant-caps: inherit\; font-weight: inherit\; font-stretch: inherit\; font-size: inherit\; line-height: inherit\; font-family: inherit\; font-size-adjust: inherit\; font-kerning: inherit\; font-variant-alternates: inherit\; font-variant-ligatures: inherit\; font-variant-numeric: inherit\; font-variant-east-asian: inherit\; font-variant-position: inherit\; font-feature-settings: inherit\; font-optical-sizing: inherit\; font-variation-settings: inherit\; vertical-align: baseline\; outline: 0px\;">Find out how the Napa Hispanic Chamber of Commerce can help you with your business needs. Let us know about your business while you meet\, and most of all\, support the small business community in our lovely Napa Valley.&nbsp\;</span><br style="box-sizing: border-box\;" />\n<br style="box-sizing: border-box\;" />\n<span style="box-sizing: border-box\; margin: 0px\; padding: 0px\; border: 0px rgb(248\, 248\, 248)\; font-style: inherit\; font-variant-caps: inherit\; font-weight: inherit\; font-stretch: inherit\; font-size: inherit\; line-height: inherit\; font-family: inherit\; font-size-adjust: inherit\; font-kerning: inherit\; font-variant-alternates: inherit\; font-variant-ligatures: inherit\; font-variant-numeric: inherit\; font-variant-east-asian: inherit\; font-variant-position: inherit\; font-feature-settings: inherit\; font-optical-sizing: inherit\; font-variation-settings: inherit\; vertical-align: baseline\; outline: 0px\;">Be one of the first five attendees that brings a raffle prize\, and join us at the next mixer for FREE! And of course\, all will have a&nbsp\;chance at winning a raffle prize\, too.</span><br style="box-sizing: border-box\;" />\n<br style="box-sizing: border-box\;" />\n<span style="box-sizing: border-box\; margin: 0px\; padding: 0px\; border: 0px rgb(248\, 248\, 248)\; font-style: inherit\; font-variant-caps: inherit\; font-weight: inherit\; font-stretch: inherit\; font-size: inherit\; line-height: inherit\; font-family: inherit\; font-size-adjust: inherit\; font-kerning: inherit\; font-variant-alternates: inherit\; font-variant-ligatures: inherit\; font-variant-numeric: inherit\; font-variant-east-asian: inherit\; font-variant-position: inherit\; font-feature-settings: inherit\; font-optical-sizing: inherit\; font-variation-settings: inherit\; vertical-align: baseline\;">Networking. Business Opportunities. Support Local Businesses.</span></p>\n\n<div id="6D4E3A78_C6A2_5965_4DAC_02F0196F0209">&nbsp\;</div>\n\n<div id="6D4E3A78_C6A2_5965_4DAC_02F0196F0209">&nbsp\;</div>\n\n<div id="6D4E3A78_C6A2_5965_4DAC_02F0196F0209">&nbsp\;</div>\n\n<div id="6D4E3A78_C6A2_5965_4DAC_02F0196F0209">&nbsp\;</div>\n<scribe-shadow id="crxjs-ext" style="position: fixed\; width: 0px\; height: 0px\; top: 0px\; left: 0px\; z-index: 2147483647\; overflow: visible\;"></scribe-shadow>
LOCATION:135 Gasser Drive Suite D Napa CA 9455
UID:e.3042.453
SEQUENCE:3
DTSTAMP:20260419T175735Z
URL:https://business.napacountyhcc.com/events/details/wine-down-media-mixer-event-453
END:VEVENT

END:VCALENDAR
